BEGIN:VCALENDAR
VERSION:2.0
PRODID:-//Cincy MultiFaith Calendar - ECPv6.15.1.1//NONSGML v1.0//EN
CALSCALE:GREGORIAN
METHOD:PUBLISH
X-WR-CALNAME:Cincy MultiFaith Calendar
X-ORIGINAL-URL:https://multi-faithcalendar.org
X-WR-CALDESC:Events for Cincy MultiFaith Calendar
REFRESH-INTERVAL;VALUE=DURATION:PT1H
X-Robots-Tag:noindex
X-PUBLISHED-TTL:PT1H
BEGIN:VTIMEZONE
TZID:America/New_York
BEGIN:DAYLIGHT
TZOFFSETFROM:-0500
TZOFFSETTO:-0400
TZNAME:EDT
DTSTART:20230312T070000
END:DAYLIGHT
BEGIN:STANDARD
TZOFFSETFROM:-0400
TZOFFSETTO:-0500
TZNAME:EST
DTSTART:20231105T060000
END:STANDARD
END:VTIMEZONE
BEGIN:VEVENT
DTSTART;VALUE=DATE:20230806
DTEND;VALUE=DATE:20230816
DTSTAMP:20260425T223229
CREATED:20221221T194439Z
LAST-MODIFIED:20221221T194439Z
UID:2249-1691280000-1692143999@multi-faithcalendar.org
SUMMARY:Muktad or Fravardegan (Parsi Zoroastrian)
DESCRIPTION:Today marks the first of ten days of commemoration\, at the end of the Zoroastrian year. During this time\, the community commemorates and remembers fravarshis (departed souls) with fresh flowers and a lighted oil lamp. Homes and temples are thoroughly cleaned; for it is believed that the fravashis visit the physical world during this time\, to bless and protect the living. \nMore Information
URL:https://multi-faithcalendar.org/events/muktad-or-fravardegan-parsi-zoroastrian-2/
CATEGORIES:2023,August,Parsi Zoroastrian
END:VEVENT
END:VCALENDAR