BEGIN:VCALENDAR
VERSION:2.0
PRODID:-//Cincy MultiFaith Calendar - ECPv6.15.1.1//NONSGML v1.0//EN
CALSCALE:GREGORIAN
METHOD:PUBLISH
X-WR-CALNAME:Cincy MultiFaith Calendar
X-ORIGINAL-URL:https://multi-faithcalendar.org
X-WR-CALDESC:Events for Cincy MultiFaith Calendar
REFRESH-INTERVAL;VALUE=DURATION:PT1H
X-Robots-Tag:noindex
X-PUBLISHED-TTL:PT1H
BEGIN:VTIMEZONE
TZID:America/New_York
BEGIN:DAYLIGHT
TZOFFSETFROM:-0500
TZOFFSETTO:-0400
TZNAME:EDT
DTSTART:20230312T070000
END:DAYLIGHT
BEGIN:STANDARD
TZOFFSETFROM:-0400
TZOFFSETTO:-0500
TZNAME:EST
DTSTART:20231105T060000
END:STANDARD
END:VTIMEZONE
BEGIN:VEVENT
DTSTART;VALUE=DATE:20230816
DTEND;VALUE=DATE:20230817
DTSTAMP:20260425T223229
CREATED:20221221T194631Z
LAST-MODIFIED:20221221T194631Z
UID:2251-1692144000-1692230399@multi-faithcalendar.org
SUMMARY:Navroze / New Year (Parsi Zoroastrian)
DESCRIPTION:Weeks before Navroze\, homes are given a cleaning and festive foods are prepared. The arrival of the new year is celebrated by prayers at the Fire temple (Atashbehram) followed by a special meal shared with family. \nMore Information \nHoliday Greeting: Navroze Mubarak \nChildren may miss school to celebrate with families
URL:https://multi-faithcalendar.org/events/navroze-new-year-parsi-zoroastrian/
CATEGORIES:2023,August,Parsi Zoroastrian
END:VEVENT
END:VCALENDAR