BEGIN:VCALENDAR
VERSION:2.0
PRODID:-//Cincy MultiFaith Calendar - ECPv6.15.1.1//NONSGML v1.0//EN
CALSCALE:GREGORIAN
METHOD:PUBLISH
X-ORIGINAL-URL:https://multi-faithcalendar.org
X-WR-CALDESC:Events for Cincy MultiFaith Calendar
REFRESH-INTERVAL;VALUE=DURATION:PT1H
X-Robots-Tag:noindex
X-PUBLISHED-TTL:PT1H
BEGIN:VTIMEZONE
TZID:America/New_York
BEGIN:DAYLIGHT
TZOFFSETFROM:-0500
TZOFFSETTO:-0400
TZNAME:EDT
DTSTART:20230312T070000
END:DAYLIGHT
BEGIN:STANDARD
TZOFFSETFROM:-0400
TZOFFSETTO:-0500
TZNAME:EST
DTSTART:20231105T060000
END:STANDARD
END:VTIMEZONE
BEGIN:VEVENT
DTSTART;VALUE=DATE:20230911
DTEND;VALUE=DATE:20230920
DTSTAMP:20260425T210424
CREATED:20221221T200302Z
LAST-MODIFIED:20221221T200302Z
UID:2263-1694390400-1695167999@multi-faithcalendar.org
SUMMARY:Paryushan (Jain)
DESCRIPTION:Paryushan is a time (period) for self-analysis and soul searching\, for reflecting and contemplating on past conduct\, in light of the teachings of Jainism and re-dedication to leading a spiritually cleaner life in the future. An important day is the last day of Paryushan (Shwetambar sect)\, or Saṃvatsarī (Sanskrit: संवत्सरी) (Forgiveness Day)\, when Jains forgive and seek forgiveness for their mistakes committed knowingly or unknowingly from all the living beings. \nDuring this period\, Jains would typically greet each other by saying “Michhami Dukkadam” which essentially signifies forgiveness (both forgiving and seeking forgiveness). \nMore information can be found here. \nTo connect with the Jain community in Cincinnati and Dayton visit this website.
URL:https://multi-faithcalendar.org/events/paryushan-jain/
CATEGORIES:2023,Jain,September
END:VEVENT
BEGIN:VEVENT
DTSTART;VALUE=DATE:20230918
DTEND;VALUE=DATE:20230919
DTSTAMP:20260425T210424
CREATED:20221221T200512Z
LAST-MODIFIED:20221221T200512Z
UID:2265-1694995200-1695081599@multi-faithcalendar.org
SUMMARY:Ganesh Chaturthi (Hindu)
DESCRIPTION:This is a 10-day festival\, also called Vinayaka Chaturthi or Vinayaka Chavithi\, that celebrates the birth of Ganesha\, the elephant-headed god. The festival is marked by the installation of clay idols of Ganesh privately in homes\, or publicly on elaborate pandals (temporary stages) with ornate statues. Hymns\, prayers\, and fasting are typical practices during this festival. On the tenth day\, the festival ends with a public procession to a nearby river or ocean and immersion of the idols and statues. In Mumbai alone\, it is estimated that around 150\,000 statues are immersed annually. \nMore information can be found here.
URL:https://multi-faithcalendar.org/events/ganesh-chaturthi-hindu-3/
CATEGORIES:2023,Hindu,September
END:VEVENT
BEGIN:VEVENT
DTSTART;VALUE=DATE:20230918
DTEND;VALUE=DATE:20230919
DTSTAMP:20260425T210424
CREATED:20221221T200848Z
LAST-MODIFIED:20221221T200848Z
UID:2269-1694995200-1695081599@multi-faithcalendar.org
SUMMARY:GurGaddi of Guru Angad Sahib (2nd Guru) (Sikh)
DESCRIPTION:Guru Angad Dev Ji was originally a humble Sikh named Lehna. Upon meeting the founder of Sikhism\, Guru Nanak\, his life transformed and he never left the Guru’s side serving the community for many years to follow. When the time came\, Guru Nanak approached Lehna and said you have now become a part of me\, Ang\, and henceforth you shall carry on the Guru’s work as Angad. Guru Angad was responsible for establishing the script of the Guru\, Gurmukhi\, which is commonly known today as the Punjabi script. \nMore Information \nHoliday Greeting: “Vadhaaiaa Ji” – Congratulations! \nStudents and/Co-Workers may visit their local Gurdwara at some point during the day
URL:https://multi-faithcalendar.org/events/gurgaddi-of-guru-angad-sahib-2nd-guru-sikh-2/
CATEGORIES:2023,Sikh
END:VEVENT
END:VCALENDAR