BEGIN:VCALENDAR
VERSION:2.0
PRODID:-//Cincy MultiFaith Calendar - ECPv6.15.1.1//NONSGML v1.0//EN
CALSCALE:GREGORIAN
METHOD:PUBLISH
X-WR-CALNAME:Cincy MultiFaith Calendar
X-ORIGINAL-URL:https://multi-faithcalendar.org
X-WR-CALDESC:Events for Cincy MultiFaith Calendar
REFRESH-INTERVAL;VALUE=DURATION:PT1H
X-Robots-Tag:noindex
X-PUBLISHED-TTL:PT1H
BEGIN:VTIMEZONE
TZID:America/New_York
BEGIN:DAYLIGHT
TZOFFSETFROM:-0500
TZOFFSETTO:-0400
TZNAME:EDT
DTSTART:20230312T070000
END:DAYLIGHT
BEGIN:STANDARD
TZOFFSETFROM:-0400
TZOFFSETTO:-0500
TZNAME:EST
DTSTART:20231105T060000
END:STANDARD
END:VTIMEZONE
BEGIN:VEVENT
DTSTART;VALUE=DATE:20231026
DTEND;VALUE=DATE:20231027
DTSTAMP:20260425T175510
CREATED:20230120T122515Z
LAST-MODIFIED:20230120T122515Z
UID:2316-1698278400-1698364799@multi-faithcalendar.org
SUMMARY:Jashan-e Abangan (Zoroastrian)
DESCRIPTION:Jashan-e Abangan is a celebration ceremony\, a Jashan\, performed on Avan day of Avan month\, in\nhonor of Abangan or Avan\, a Pehlavi name derived from the ancient Avestan term “Ardvi Sura”. Avan\nmeans Water. Water\, a life-giving element for all creation in our world\, is highly revered by\nZoroastrians\, and we consider it our religious duty to keep the world’s waters clean and pure\, and never\ndo any such act that would defile the waters. Avan is associated with Khordad.
URL:https://multi-faithcalendar.org/events/jashan-e-abangan-zoroastrian-2/
CATEGORIES:2023,Zoroastrian
END:VEVENT
BEGIN:VEVENT
DTSTART;VALUE=DATE:20231026
DTEND;VALUE=DATE:20231028
DTSTAMP:20260425T175510
CREATED:20230120T122222Z
LAST-MODIFIED:20230120T122305Z
UID:2314-1698278400-1698451199@multi-faithcalendar.org
SUMMARY:Twin Holy Days (Bahá’í)
DESCRIPTION:Commemorates the birth of The Bab\, Herald of the Baha’i Faith & founder of the Babi Faith\, in 1819. \nWork is to be suspended and children excused from school. \nMore information: \nhttps://www.bahaiblog.net/bahai-calendar/about-the-birth-of-the-bab/ \nTwin Holy Birthdays / Twin Manifestations of God \n \n 
URL:https://multi-faithcalendar.org/events/twin-holy-days-bahai/
CATEGORIES:2023,October,The Bahá’í Faith
END:VEVENT
END:VCALENDAR