BEGIN:VCALENDAR
VERSION:2.0
PRODID:-//Cincy MultiFaith Calendar - ECPv6.15.1.1//NONSGML v1.0//EN
CALSCALE:GREGORIAN
METHOD:PUBLISH
X-ORIGINAL-URL:https://multi-faithcalendar.org
X-WR-CALDESC:Events for Cincy MultiFaith Calendar
REFRESH-INTERVAL;VALUE=DURATION:PT1H
X-Robots-Tag:noindex
X-PUBLISHED-TTL:PT1H
BEGIN:VTIMEZONE
TZID:America/New_York
BEGIN:DAYLIGHT
TZOFFSETFROM:-0500
TZOFFSETTO:-0400
TZNAME:EDT
DTSTART:20230312T070000
END:DAYLIGHT
BEGIN:STANDARD
TZOFFSETFROM:-0400
TZOFFSETTO:-0500
TZNAME:EST
DTSTART:20231105T060000
END:STANDARD
BEGIN:DAYLIGHT
TZOFFSETFROM:-0500
TZOFFSETTO:-0400
TZNAME:EDT
DTSTART:20240310T070000
END:DAYLIGHT
BEGIN:STANDARD
TZOFFSETFROM:-0400
TZOFFSETTO:-0500
TZNAME:EST
DTSTART:20241103T060000
END:STANDARD
END:VTIMEZONE
BEGIN:VEVENT
DTSTART;VALUE=DATE:20231221
DTEND;VALUE=DATE:20240102
DTSTAMP:20260425T120150
CREATED:20230925T112837Z
LAST-MODIFIED:20230925T112837Z
UID:2360-1703116800-1704153599@multi-faithcalendar.org
SUMMARY:Yule (Pagan)
DESCRIPTION:Yule or Winter Solstice is celebrated around December 21st or 22nd and is the first pagan holiday celebrated after the ending of the old year. This is the longest night and shortest day of the year\, and most likely the oldest holiday known to humankind. It celebrates the birth of the sun – the Divine Child is born. Symbols: The Yule Log\, evergreen trees\, stars. \nMore Information
URL:https://multi-faithcalendar.org/events/yule-pagan-3/
CATEGORIES:2023,Pagan
END:VEVENT
BEGIN:VEVENT
DTSTART;VALUE=DATE:20231231
DTEND;VALUE=DATE:20240105
DTSTAMP:20260425T120150
CREATED:20230925T114542Z
LAST-MODIFIED:20230925T114542Z
UID:2370-1703980800-1704412799@multi-faithcalendar.org
SUMMARY:Gahambar Maidyarem (Zoroastrianism)
DESCRIPTION:Maidyarem (literally: Winter) Gahambar is a seasonal feast celebrated on the winter solstice. It is considered a religious duty to participate in a communal jashan prayer ceremony; as well as\, fraternize and share a simple meal with fellow co-religionists from all walks of life\, rich and poor. \nMore Information
URL:https://multi-faithcalendar.org/events/gahambar-maidyarem-zoroastrianism-2/
CATEGORIES:2023,December,Zoroastrian
END:VEVENT
BEGIN:VEVENT
DTSTART;VALUE=DATE:20240101
DTEND;VALUE=DATE:20240102
DTSTAMP:20260425T120150
CREATED:20231106T120510Z
LAST-MODIFIED:20231106T120510Z
UID:2373-1704067200-1704153599@multi-faithcalendar.org
SUMMARY:The Solemnity of Mary\, the Holy Mother of God (Catholic)
DESCRIPTION:Solemnity of Mary\nA feast day of the Blessed Virgin Mary under the aspect of her motherhood of Jesus Christ. \nThis is a holy day of obligation. \n \nMore Information
URL:https://multi-faithcalendar.org/events/the-solemnity-of-mary-the-holy-mother-of-god-catholic-5/
CATEGORIES:2024,Catholic
END:VEVENT
END:VCALENDAR