BEGIN:VCALENDAR
VERSION:2.0
PRODID:-//Cincy MultiFaith Calendar - ECPv6.15.1.1//NONSGML v1.0//EN
CALSCALE:GREGORIAN
METHOD:PUBLISH
X-WR-CALNAME:Cincy MultiFaith Calendar
X-ORIGINAL-URL:https://multi-faithcalendar.org
X-WR-CALDESC:Events for Cincy MultiFaith Calendar
REFRESH-INTERVAL;VALUE=DURATION:PT1H
X-Robots-Tag:noindex
X-PUBLISHED-TTL:PT1H
BEGIN:VTIMEZONE
TZID:America/New_York
BEGIN:DAYLIGHT
TZOFFSETFROM:-0500
TZOFFSETTO:-0400
TZNAME:EDT
DTSTART:20240310T070000
END:DAYLIGHT
BEGIN:STANDARD
TZOFFSETFROM:-0400
TZOFFSETTO:-0500
TZNAME:EST
DTSTART:20241103T060000
END:STANDARD
END:VTIMEZONE
BEGIN:VEVENT
DTSTART;VALUE=DATE:20240117
DTEND;VALUE=DATE:20240118
DTSTAMP:20260425T115717
CREATED:20231106T120634Z
LAST-MODIFIED:20231106T120634Z
UID:2375-1705449600-1705535999@multi-faithcalendar.org
SUMMARY:Parkash - Birth of Guru Gobind Singh Ji (10th Guru) (Sikh)
DESCRIPTION:Sikhs celebrate the birth of Guru Gobind Singh with great enthusiasm! The 10th and final Sikh Master\, Guru Gobind Singh is regarded as the spiritual Father. He was a wise sage\, a brilliant poet\, a keen philosopher\, a talented musician\, a multi-faceted warrior\, and a fearless general. Following the martyrdom of his father\, the 9th Master\, Guru Gobind Singh forged the distinct ‘Khalsa’ identity of the Sikhs to always stand out as beacons of hope and stand up for equality. He charged the Khalsa to restore justice\, fight exploitation\, and be stewards of humanity. He also declared the Scriptures\, the Adi Granth\, to be the Sikh’s Guru from that time on.  \nMore Information \nHoliday greetings: “Vadhaaiaa Ji” – Congratulations! \nStudents and/Co-Workers may visit their local Gurdwara at some point during the day.
URL:https://multi-faithcalendar.org/events/parkash-birth-of-guru-gobind-singh-ji-10th-guru-sikh-3/
CATEGORIES:2024,Sikh
END:VEVENT
END:VCALENDAR