BEGIN:VCALENDAR
VERSION:2.0
PRODID:-//Cincy MultiFaith Calendar - ECPv6.15.1.1//NONSGML v1.0//EN
CALSCALE:GREGORIAN
METHOD:PUBLISH
X-WR-CALNAME:Cincy MultiFaith Calendar
X-ORIGINAL-URL:https://multi-faithcalendar.org
X-WR-CALDESC:Events for Cincy MultiFaith Calendar
REFRESH-INTERVAL;VALUE=DURATION:PT1H
X-Robots-Tag:noindex
X-PUBLISHED-TTL:PT1H
BEGIN:VTIMEZONE
TZID:America/New_York
BEGIN:DAYLIGHT
TZOFFSETFROM:-0500
TZOFFSETTO:-0400
TZNAME:EDT
DTSTART:20240310T070000
END:DAYLIGHT
BEGIN:STANDARD
TZOFFSETFROM:-0400
TZOFFSETTO:-0500
TZNAME:EST
DTSTART:20241103T060000
END:STANDARD
END:VTIMEZONE
BEGIN:VEVENT
DTSTART;VALUE=DATE:20240124
DTEND;VALUE=DATE:20240126
DTSTAMP:20260425T115714
CREATED:20231112T183301Z
LAST-MODIFIED:20231112T183301Z
UID:2397-1706054400-1706227199@multi-faithcalendar.org
SUMMARY:Tu B'Shvat (Jewish)
DESCRIPTION:New Year of the Trees. Originally celebrated as an agricultural festival marking the emergence of spring\, today celebrations focus on environmental awareness. Trees are often planted in honor or memory of loved ones. \nMore Information
URL:https://multi-faithcalendar.org/events/tu-bshvat-jewish-5/
CATEGORIES:2024,Jewish
END:VEVENT
END:VCALENDAR