BEGIN:VCALENDAR
VERSION:2.0
PRODID:-//Cincy MultiFaith Calendar - ECPv6.15.1.1//NONSGML v1.0//EN
CALSCALE:GREGORIAN
METHOD:PUBLISH
X-ORIGINAL-URL:https://multi-faithcalendar.org
X-WR-CALDESC:Events for Cincy MultiFaith Calendar
REFRESH-INTERVAL;VALUE=DURATION:PT1H
X-Robots-Tag:noindex
X-PUBLISHED-TTL:PT1H
BEGIN:VTIMEZONE
TZID:America/New_York
BEGIN:DAYLIGHT
TZOFFSETFROM:-0500
TZOFFSETTO:-0400
TZNAME:EDT
DTSTART:20240310T070000
END:DAYLIGHT
BEGIN:STANDARD
TZOFFSETFROM:-0400
TZOFFSETTO:-0500
TZNAME:EST
DTSTART:20241103T060000
END:STANDARD
END:VTIMEZONE
BEGIN:VEVENT
DTSTART;VALUE=DATE:20240214
DTEND;VALUE=DATE:20240215
DTSTAMP:20260425T102414
CREATED:20231106T121958Z
LAST-MODIFIED:20231106T121958Z
UID:2393-1707868800-1707955199@multi-faithcalendar.org
SUMMARY:Saraswati Puja (Hindu)
DESCRIPTION:Saraswati Puja\, also called Vasant Panchami\, is celebrated to honor Saraswati\, the goddess of knowledge and learning. Hindu temples and households are full of activity on this day. This ‘Panchami’ is also known as Saraswati Day\, because it is believed that on this day\, the goddess Saraswati was born\, bringing rhythm\, order and knowledge into creation. \nHindu children are traditionally taught to read and write their first words on this day\, because it is considered an auspicious day to begin a child’s education. Educational institutions organize special prayers for Saraswati on this day. \nFurther information can be found here and here.
URL:https://multi-faithcalendar.org/events/saraswati-puja-hindu-5/
CATEGORIES:2024,Hindu
END:VEVENT
BEGIN:VEVENT
DTSTART;VALUE=DATE:20240214
DTEND;VALUE=DATE:20240215
DTSTAMP:20260425T102414
CREATED:20231112T184428Z
LAST-MODIFIED:20231112T184428Z
UID:2407-1707868800-1707955199@multi-faithcalendar.org
SUMMARY:Ash Wednesday (Catholic/ Christian Protestant / Hispanic)
DESCRIPTION:Ash Wednesday is the beginning of the 40-day season of Lent\, when Christians prepare spiritually for the celebration of Easter. On this day\, Catholics and some Protestant denominations will attend a special prayer service\, where they will have ashes applied to their foreheads in the shape of a cross. This cross of ashes symbolizes penance\, mourning and mortality. \nThis is a day of fasting and abstinence from meat for Catholics over the age of 14. \nMore information from the Christian Methodist Episcopal Church can be found here. \nMore information from the Catholic Church can be found here.
URL:https://multi-faithcalendar.org/events/ash-wednesday-catholic-christian-protestant-hispanic-3/
CATEGORIES:2024,Catholic,Christian,Hispanic
END:VEVENT
END:VCALENDAR