BEGIN:VCALENDAR
VERSION:2.0
PRODID:-//Cincy MultiFaith Calendar - ECPv6.15.1.1//NONSGML v1.0//EN
CALSCALE:GREGORIAN
METHOD:PUBLISH
X-WR-CALNAME:Cincy MultiFaith Calendar
X-ORIGINAL-URL:https://multi-faithcalendar.org
X-WR-CALDESC:Events for Cincy MultiFaith Calendar
REFRESH-INTERVAL;VALUE=DURATION:PT1H
X-Robots-Tag:noindex
X-PUBLISHED-TTL:PT1H
BEGIN:VTIMEZONE
TZID:America/New_York
BEGIN:DAYLIGHT
TZOFFSETFROM:-0500
TZOFFSETTO:-0400
TZNAME:EDT
DTSTART:20240310T070000
END:DAYLIGHT
BEGIN:STANDARD
TZOFFSETFROM:-0400
TZOFFSETTO:-0500
TZNAME:EST
DTSTART:20241103T060000
END:STANDARD
END:VTIMEZONE
BEGIN:VEVENT
DTSTART;VALUE=DATE:20240221
DTEND;VALUE=DATE:20240222
DTSTAMP:20260425T103017
CREATED:20231112T184256Z
LAST-MODIFIED:20231112T184256Z
UID:2405-1708473600-1708559999@multi-faithcalendar.org
SUMMARY:Saka Nankana Sahib (Sikh)
DESCRIPTION:The Nankana massacre (or Saka Nankana) took place in Nankana Sahib gurdwara on 20 February 1921\, at that time of British India\, in modern-day Pakistan. More than 260 Sikhs were killed\, including children as young as seven\, by the Mahant and his mercenaries. The event forms an important part of Sikh history. In political significance\, it comes next only to the Jallianwala Bagh massacre of April 1919. The saga constitutes the core of the Gurdwara Reform Movement started by the Sikhs in the early twentieth century. \nMore Information
URL:https://multi-faithcalendar.org/events/saka-nankana-sahib-sikh-4/
CATEGORIES:2024,Sikh
END:VEVENT
END:VCALENDAR