BEGIN:VCALENDAR
VERSION:2.0
PRODID:-//Cincy MultiFaith Calendar - ECPv6.15.1.1//NONSGML v1.0//EN
CALSCALE:GREGORIAN
METHOD:PUBLISH
X-WR-CALNAME:Cincy MultiFaith Calendar
X-ORIGINAL-URL:https://multi-faithcalendar.org
X-WR-CALDESC:Events for Cincy MultiFaith Calendar
REFRESH-INTERVAL;VALUE=DURATION:PT1H
X-Robots-Tag:noindex
X-PUBLISHED-TTL:PT1H
BEGIN:VTIMEZONE
TZID:America/New_York
BEGIN:DAYLIGHT
TZOFFSETFROM:-0500
TZOFFSETTO:-0400
TZNAME:EDT
DTSTART:20240310T070000
END:DAYLIGHT
BEGIN:STANDARD
TZOFFSETFROM:-0400
TZOFFSETTO:-0500
TZNAME:EST
DTSTART:20241103T060000
END:STANDARD
END:VTIMEZONE
BEGIN:VEVENT
DTSTART;VALUE=DATE:20240226
DTEND;VALUE=DATE:20240301
DTSTAMP:20260425T085004
CREATED:20231112T184655Z
LAST-MODIFIED:20231112T184655Z
UID:2409-1708905600-1709251199@multi-faithcalendar.org
SUMMARY:Ayyam-i-Ha or Intercalary Days (The Bahá’í Faith)
DESCRIPTION:Ayyam-i-Ha or ” Days of God” are devoted to spiritual preparation for the upcoming 19 Day Fast\, hospitality\, charity\, and gift giving. They are celebrated during the four days (five days in a leap year) before the last month of the Baha’i year. \nHoliday Greeting: Happy Ayyam-i-Ha
URL:https://multi-faithcalendar.org/events/ayyam-i-ha-or-intercalary-days-the-bahai-faith-4/
CATEGORIES:2024,The Bahá’í Faith
END:VEVENT
BEGIN:VEVENT
DTSTART;VALUE=DATE:20240229
DTEND;VALUE=DATE:20240302
DTSTAMP:20260425T085004
CREATED:20231129T183359Z
LAST-MODIFIED:20240102T214452Z
UID:2418-1709164800-1709337599@multi-faithcalendar.org
SUMMARY:Feast of 'Ala' / Loftiness (Baha'i)
DESCRIPTION:Wherever they live\, Baha’is gather every 19 days for what we call a Feast. Observance begins at sunset on the 29th and ends at sunset on the 1st. The month of fasting starts on March 1. This is a members-only event comprising three parts: \n1. A spiritual portion that’s the time for prayer and reflection; \n2. A business portion for consultation about administrative issues (plans for forming classes\, organizing to perform community service\, observing holy days\, or any ideas or projects community members wish to discuss. It’s also a time when local members can ask their Local Assembly to forward their concerns to the National Assembly; \n3. A social portion that can consist of anything from just glasses of water to a full-course dinner.
URL:https://multi-faithcalendar.org/events/feast-of-ala-loftiness-bahai-2/
CATEGORIES:2024,The Bahá’í Faith
END:VEVENT
END:VCALENDAR