BEGIN:VCALENDAR
VERSION:2.0
PRODID:-//Cincy MultiFaith Calendar - ECPv6.15.1.1//NONSGML v1.0//EN
CALSCALE:GREGORIAN
METHOD:PUBLISH
X-ORIGINAL-URL:https://multi-faithcalendar.org
X-WR-CALDESC:Events for Cincy MultiFaith Calendar
REFRESH-INTERVAL;VALUE=DURATION:PT1H
X-Robots-Tag:noindex
X-PUBLISHED-TTL:PT1H
BEGIN:VTIMEZONE
TZID:America/New_York
BEGIN:DAYLIGHT
TZOFFSETFROM:-0500
TZOFFSETTO:-0400
TZNAME:EDT
DTSTART:20240310T070000
END:DAYLIGHT
BEGIN:STANDARD
TZOFFSETFROM:-0400
TZOFFSETTO:-0500
TZNAME:EST
DTSTART:20241103T060000
END:STANDARD
END:VTIMEZONE
BEGIN:VEVENT
DTSTART;VALUE=DATE:20240316
DTEND;VALUE=DATE:20240321
DTSTAMP:20260425T085054
CREATED:20231129T183721Z
LAST-MODIFIED:20231129T183721Z
UID:2426-1710547200-1710979199@multi-faithcalendar.org
SUMMARY:Hamaspathmaidyem Gahambar (Zoroastrian)
DESCRIPTION:Commemoration and remembrance of all departed souls. Homes and temples are thoroughly cleaned; for it is believed that the souls of departed loved ones (fravashis) visit the physical world during this time\, to bless and protect the living. \nMore Information
URL:https://multi-faithcalendar.org/events/hamaspathmaidyem-gahambar-zoroastrian-3/
CATEGORIES:2024,Zoroastrian
END:VEVENT
BEGIN:VEVENT
DTSTART;VALUE=DATE:20240319
DTEND;VALUE=DATE:20240320
DTSTAMP:20260425T085054
CREATED:20231129T183809Z
LAST-MODIFIED:20231129T183809Z
UID:2428-1710806400-1710892799@multi-faithcalendar.org
SUMMARY:Feast of St. Joseph (Catholic)
DESCRIPTION:This is the feast day of Joseph\, a carpenter who was the stepfather of Jesus and husband of Mary. He is the patron saint of the Universal Church. Traditionally it is believed he died in the presence of Jesus and Mary\, before Jesus began his public ministry. For this reason\, St. Joseph is also the patron saint of a holy death. \nMore information can be found here.
URL:https://multi-faithcalendar.org/events/feast-of-st-joseph-catholic-4/
CATEGORIES:2024,Catholic
END:VEVENT
END:VCALENDAR