BEGIN:VCALENDAR
VERSION:2.0
PRODID:-//Cincy MultiFaith Calendar - ECPv6.15.1.1//NONSGML v1.0//EN
CALSCALE:GREGORIAN
METHOD:PUBLISH
X-WR-CALNAME:Cincy MultiFaith Calendar
X-ORIGINAL-URL:https://multi-faithcalendar.org
X-WR-CALDESC:Events for Cincy MultiFaith Calendar
REFRESH-INTERVAL;VALUE=DURATION:PT1H
X-Robots-Tag:noindex
X-PUBLISHED-TTL:PT1H
BEGIN:VTIMEZONE
TZID:America/New_York
BEGIN:DAYLIGHT
TZOFFSETFROM:-0500
TZOFFSETTO:-0400
TZNAME:EDT
DTSTART:20240310T070000
END:DAYLIGHT
BEGIN:STANDARD
TZOFFSETFROM:-0400
TZOFFSETTO:-0500
TZNAME:EST
DTSTART:20241103T060000
END:STANDARD
END:VTIMEZONE
BEGIN:VEVENT
DTSTART;VALUE=DATE:20240325
DTEND;VALUE=DATE:20240326
DTSTAMP:20260425T085003
CREATED:20231129T182853Z
LAST-MODIFIED:20231129T182853Z
UID:2414-1711324800-1711411199@multi-faithcalendar.org
SUMMARY:Holi (Hindu)
DESCRIPTION:This is the “festival of colors” or the “festival of love.” Holi signifies the victory of good over evil and the arrival of spring. It is also celebrated as a thanksgiving for a good harvest. People celebrate this day by meeting together and tossing colored powders or colored water on each other. \nMore information can be found here.
URL:https://multi-faithcalendar.org/events/holi-hindu-4/
CATEGORIES:2024,Hindu,March
END:VEVENT
BEGIN:VEVENT
DTSTART;VALUE=DATE:20240325
DTEND;VALUE=DATE:20240328
DTSTAMP:20260425T085003
CREATED:20231129T183625Z
LAST-MODIFIED:20231129T183625Z
UID:2424-1711324800-1711583999@multi-faithcalendar.org
SUMMARY:Hola Mahalla (Sikh)
DESCRIPTION:Hola Mohalla takes place on the first day of the lunar month of Chet\, which generally falls in March. This tradition was established by the tenth Guru\, Guru Gobind Singh\, in 1701 for Sikhs to demonstrate their martial skills in controlled battles. Hola Mohalla became an annual event and continues to be celebrated with martial exhibitions\, music and poetry competitions\, and horseback riding. \nMore Information \nHoliday Greeting: “Vadhaaiaa Ji” – Congratulations! \nDevout Sikhs may be absent this day to celebrate with family and the community at their local Gurdwara.
URL:https://multi-faithcalendar.org/events/hola-mahalla-sikh-4/
CATEGORIES:2024,Sikh
END:VEVENT
END:VCALENDAR