BEGIN:VCALENDAR
VERSION:2.0
PRODID:-//Cincy MultiFaith Calendar - ECPv6.15.1.1//NONSGML v1.0//EN
CALSCALE:GREGORIAN
METHOD:PUBLISH
X-ORIGINAL-URL:https://multi-faithcalendar.org
X-WR-CALDESC:Events for Cincy MultiFaith Calendar
REFRESH-INTERVAL;VALUE=DURATION:PT1H
X-Robots-Tag:noindex
X-PUBLISHED-TTL:PT1H
BEGIN:VTIMEZONE
TZID:America/New_York
BEGIN:DAYLIGHT
TZOFFSETFROM:-0500
TZOFFSETTO:-0400
TZNAME:EDT
DTSTART:20240310T070000
END:DAYLIGHT
BEGIN:STANDARD
TZOFFSETFROM:-0400
TZOFFSETTO:-0500
TZNAME:EST
DTSTART:20241103T060000
END:STANDARD
END:VTIMEZONE
BEGIN:VEVENT
DTSTART;VALUE=DATE:20241003
DTEND;VALUE=DATE:20241013
DTSTAMP:20260424T172510
CREATED:20231228T204008Z
LAST-MODIFIED:20231228T204008Z
UID:2604-1727913600-1728777599@multi-faithcalendar.org
SUMMARY:Navaratri (Hindu)
DESCRIPTION:The festival literally means “nine nights” in Sanskrit and occurs over ten days and nine nights.  It is celebrated differently in various parts of India with prayer\, elaborate pandals (platforms)\, fasting\, folk dances\, displays of dolls\, sharing of sweets\, and bonfires. The festival celebrates the triumph of good over evil and the restoration of righteousness\, accomplished through the victory of the Goddess Durga over the buffalo demon Mahishasura. \nMore information can be found here.
URL:https://multi-faithcalendar.org/events/navaratri-hindu-2/
CATEGORIES:2024,Hindu,October
END:VEVENT
END:VCALENDAR