BEGIN:VCALENDAR
VERSION:2.0
PRODID:-//Cincy MultiFaith Calendar - ECPv6.15.1.1//NONSGML v1.0//EN
CALSCALE:GREGORIAN
METHOD:PUBLISH
X-WR-CALNAME:Cincy MultiFaith Calendar
X-ORIGINAL-URL:https://multi-faithcalendar.org
X-WR-CALDESC:Events for Cincy MultiFaith Calendar
REFRESH-INTERVAL;VALUE=DURATION:PT1H
X-Robots-Tag:noindex
X-PUBLISHED-TTL:PT1H
BEGIN:VTIMEZONE
TZID:America/New_York
BEGIN:DAYLIGHT
TZOFFSETFROM:-0500
TZOFFSETTO:-0400
TZNAME:EDT
DTSTART:20240310T070000
END:DAYLIGHT
BEGIN:STANDARD
TZOFFSETFROM:-0400
TZOFFSETTO:-0500
TZNAME:EST
DTSTART:20241103T060000
END:STANDARD
END:VTIMEZONE
BEGIN:VEVENT
DTSTART;VALUE=DATE:20241220
DTEND;VALUE=DATE:20241221
DTSTAMP:20260424T124520
CREATED:20231228T212031Z
LAST-MODIFIED:20231228T212031Z
UID:2656-1734652800-1734739199@multi-faithcalendar.org
SUMMARY:Yalda (Zoroastrian)
DESCRIPTION:Yalda is a winter solstice celebration. Friends and family gather on this longest and darkest night of the year to eat and celebrate late into the night\, around a fire which burns all night long. Red colored fruits like pomegranates and watermelons consumed. The red color in these fruits is symbolic of the light of the early morning. \nMore Information
URL:https://multi-faithcalendar.org/events/yalda-zoroastrian-5/
CATEGORIES:2024,December,Zoroastrian
END:VEVENT
END:VCALENDAR