BEGIN:VCALENDAR
VERSION:2.0
PRODID:-//Cincy MultiFaith Calendar - ECPv6.15.1.1//NONSGML v1.0//EN
CALSCALE:GREGORIAN
METHOD:PUBLISH
X-WR-CALNAME:Cincy MultiFaith Calendar
X-ORIGINAL-URL:https://multi-faithcalendar.org
X-WR-CALDESC:Events for Cincy MultiFaith Calendar
REFRESH-INTERVAL;VALUE=DURATION:PT1H
X-Robots-Tag:noindex
X-PUBLISHED-TTL:PT1H
BEGIN:VTIMEZONE
TZID:America/New_York
BEGIN:DAYLIGHT
TZOFFSETFROM:-0500
TZOFFSETTO:-0400
TZNAME:EDT
DTSTART:20240310T070000
END:DAYLIGHT
BEGIN:STANDARD
TZOFFSETFROM:-0400
TZOFFSETTO:-0500
TZNAME:EST
DTSTART:20241103T060000
END:STANDARD
BEGIN:DAYLIGHT
TZOFFSETFROM:-0500
TZOFFSETTO:-0400
TZNAME:EDT
DTSTART:20250309T070000
END:DAYLIGHT
BEGIN:STANDARD
TZOFFSETFROM:-0400
TZOFFSETTO:-0500
TZNAME:EST
DTSTART:20251102T060000
END:STANDARD
END:VTIMEZONE
BEGIN:VEVENT
DTSTART;VALUE=DATE:20241221
DTEND;VALUE=DATE:20250102
DTSTAMP:20260424T112844
CREATED:20231228T211919Z
LAST-MODIFIED:20231228T211919Z
UID:2654-1734739200-1735775999@multi-faithcalendar.org
SUMMARY:Yule (Pagan)
DESCRIPTION:Yule or Winter Solstice is celebrated around December 21st or 22nd and is the first pagan holiday celebrated after the ending of the old year. This is the longest night and shortest day of the year\, and most likely the oldest holiday known to humankind. It celebrates the birth of the sun – the Divine Child is born. Symbols: The Yule Log\, evergreen trees\, stars. \nMore Information
URL:https://multi-faithcalendar.org/events/yule-pagan-4/
CATEGORIES:2024,2025,Pagan
END:VEVENT
BEGIN:VEVENT
DTSTART;VALUE=DATE:20241225
DTEND;VALUE=DATE:20250103
DTSTAMP:20260424T112844
CREATED:20231228T211141Z
LAST-MODIFIED:20231228T211141Z
UID:2642-1735084800-1735862399@multi-faithcalendar.org
SUMMARY:Hanukkah (Jewish)
DESCRIPTION:Hanukkah\, also known as Hanukah\, Chanukah\, and Chanukkah can be spelled many different ways in English. It is an eight-day celebration known as the Festival of Lights marked by the lighting of candles using a special candle holder called a menorah or chanukiah. This holiday is where Jews celebrate their victory over a tyrant Greco-Syrian king and the rededication of the Temple in Jerusalem. As the story goes\, a small quantity of oil to light the Temple’s menorah miraculously lasted eight days. Traditions include a game involving spinning dreidels (tops)\, eating potato latkes (pancakes) and other oily foods\, and gift giving. \nMore Information \nHoliday Greeting: Happy Hanukkah! \nCommonly observed by synagogue attendance\, community or family gatherings.
URL:https://multi-faithcalendar.org/events/hanukkah-jewish-5/
CATEGORIES:2024,2025,December,Jewish
END:VEVENT
BEGIN:VEVENT
DTSTART;VALUE=DATE:20241230
DTEND;VALUE=DATE:20241231
DTSTAMP:20260424T112844
CREATED:20231228T212350Z
LAST-MODIFIED:20231228T212350Z
UID:2664-1735516800-1735603199@multi-faithcalendar.org
SUMMARY:Feast of Sharaf / Honor (Baha'i)
DESCRIPTION:Wherever they live\, Baha’is gather every 19 days for what we call a Feast. This is a members-only event comprising three parts: \n1. A spiritual portion that’s the time for prayer and reflection; \n2. A business portion for consultation about administrative issues (plans for forming classes\, organizing to perform community service\, observing holy days\, or any ideas or projects community members wish to discuss. It’s also a time when local members can ask their Local Assembly to forward their concerns to the National Assembly; \n3. A social portion that can consist of anything from just glasses of water to a full-course dinner.
URL:https://multi-faithcalendar.org/events/feast-of-sharaf-honor-bahai-2/
CATEGORIES:2024,The Bahá’í Faith
END:VEVENT
END:VCALENDAR