BEGIN:VCALENDAR
VERSION:2.0
PRODID:-//Cincy MultiFaith Calendar - ECPv6.15.1.1//NONSGML v1.0//EN
CALSCALE:GREGORIAN
METHOD:PUBLISH
X-ORIGINAL-URL:https://multi-faithcalendar.org
X-WR-CALDESC:Events for Cincy MultiFaith Calendar
REFRESH-INTERVAL;VALUE=DURATION:PT1H
X-Robots-Tag:noindex
X-PUBLISHED-TTL:PT1H
BEGIN:VTIMEZONE
TZID:America/New_York
BEGIN:DAYLIGHT
TZOFFSETFROM:-0500
TZOFFSETTO:-0400
TZNAME:EDT
DTSTART:20250309T070000
END:DAYLIGHT
BEGIN:STANDARD
TZOFFSETFROM:-0400
TZOFFSETTO:-0500
TZNAME:EST
DTSTART:20251102T060000
END:STANDARD
END:VTIMEZONE
BEGIN:VEVENT
DTSTART;VALUE=DATE:20250124
DTEND;VALUE=DATE:20250125
DTSTAMP:20260424T112749
CREATED:20241117T125015Z
LAST-MODIFIED:20241117T125015Z
UID:2730-1737676800-1737763199@multi-faithcalendar.org
SUMMARY:Jashan-e Sadeh (Zoroastrian)
DESCRIPTION:Sadeh is a mid-winter celebration observed by preparing a large community bonfire. The bonfire symbolizes the victory of light over forces of cold and darkness. \nMore Information
URL:https://multi-faithcalendar.org/events/jashan-e-sadeh-zoroastrian-6/
CATEGORIES:2025,Zoroastrian
END:VEVENT
END:VCALENDAR