BEGIN:VCALENDAR
VERSION:2.0
PRODID:-//Cincy MultiFaith Calendar - ECPv6.15.1.1//NONSGML v1.0//EN
CALSCALE:GREGORIAN
METHOD:PUBLISH
X-ORIGINAL-URL:https://multi-faithcalendar.org
X-WR-CALDESC:Events for Cincy MultiFaith Calendar
REFRESH-INTERVAL;VALUE=DURATION:PT1H
X-Robots-Tag:noindex
X-PUBLISHED-TTL:PT1H
BEGIN:VTIMEZONE
TZID:America/New_York
BEGIN:DAYLIGHT
TZOFFSETFROM:-0500
TZOFFSETTO:-0400
TZNAME:EDT
DTSTART:20250309T070000
END:DAYLIGHT
BEGIN:STANDARD
TZOFFSETFROM:-0400
TZOFFSETTO:-0500
TZNAME:EST
DTSTART:20251102T060000
END:STANDARD
END:VTIMEZONE
BEGIN:VEVENT
DTSTART;VALUE=DATE:20250202
DTEND;VALUE=DATE:20250203
DTSTAMP:20260424T112804
CREATED:20241117T125534Z
LAST-MODIFIED:20241117T125534Z
UID:2738-1738454400-1738540799@multi-faithcalendar.org
SUMMARY:Saraswati Puja (Hindu)
DESCRIPTION:Saraswati Puja\, also called Vasant Panchami\, is celebrated to honor Saraswati\, the goddess of knowledge and learning. Hindu temples and households are full of activity on this day. This ‘Panchami’ is also known as Saraswati Day\, because it is believed that on this day\, the goddess Saraswati was born\, bringing rhythm\, order and knowledge into creation. \nHindu children are traditionally taught to read and write their first words on this day\, because it is considered an auspicious day to begin a child’s education. Educational institutions organize special prayers for Saraswati on this day. \nFurther information can be found here and here.
URL:https://multi-faithcalendar.org/events/saraswati-puja-hindu-6/
CATEGORIES:2025,Hindu
END:VEVENT
END:VCALENDAR