BEGIN:VCALENDAR
VERSION:2.0
PRODID:-//Cincy MultiFaith Calendar - ECPv6.15.1.1//NONSGML v1.0//EN
CALSCALE:GREGORIAN
METHOD:PUBLISH
X-WR-CALNAME:Cincy MultiFaith Calendar
X-ORIGINAL-URL:https://multi-faithcalendar.org
X-WR-CALDESC:Events for Cincy MultiFaith Calendar
REFRESH-INTERVAL;VALUE=DURATION:PT1H
X-Robots-Tag:noindex
X-PUBLISHED-TTL:PT1H
BEGIN:VTIMEZONE
TZID:America/New_York
BEGIN:DAYLIGHT
TZOFFSETFROM:-0500
TZOFFSETTO:-0400
TZNAME:EDT
DTSTART:20250309T070000
END:DAYLIGHT
BEGIN:STANDARD
TZOFFSETFROM:-0400
TZOFFSETTO:-0500
TZNAME:EST
DTSTART:20251102T060000
END:STANDARD
END:VTIMEZONE
BEGIN:VEVENT
DTSTART;VALUE=DATE:20250218
DTEND;VALUE=DATE:20250219
DTSTAMP:20260424T111422
CREATED:20241117T125721Z
LAST-MODIFIED:20241117T125721Z
UID:2742-1739836800-1739923199@multi-faithcalendar.org
SUMMARY:Jashan-e Spandarmad (Zoroastrian)
DESCRIPTION:Jashan-e Spandarmad is a celebration ceremony\, a Jashan\, performed on Spandarmad day of\nSpandarmad month\, in honor of Spandarmad\, a Pehlavi name derived from the ancient Avestan term\n‘Spenta Armaiti’ from the Gathas of Zarathushtra. Aramaiti means “tranquility\, stability and serenity.”\nIt is peace and prosperity. When used with the adjective spenta\, it means the “ever-increasing or\nprogressive serenity and peace”. In later Zoroastrian religious history\, the wise men/priests\nassociated Spandarmad with being the steward/guardian of Mother Earth. So\, when we see this\ndivine attribute from both angles\, for us it stands for Peace & Serenity for all Creation on Earth!
URL:https://multi-faithcalendar.org/events/jashan-e-spandarmad-zoroastrian-5/
CATEGORIES:2025,Zoroastrian
END:VEVENT
END:VCALENDAR