BEGIN:VCALENDAR
VERSION:2.0
PRODID:-//Cincy MultiFaith Calendar - ECPv6.15.1.1//NONSGML v1.0//EN
CALSCALE:GREGORIAN
METHOD:PUBLISH
X-ORIGINAL-URL:https://multi-faithcalendar.org
X-WR-CALDESC:Events for Cincy MultiFaith Calendar
REFRESH-INTERVAL;VALUE=DURATION:PT1H
X-Robots-Tag:noindex
X-PUBLISHED-TTL:PT1H
BEGIN:VTIMEZONE
TZID:America/New_York
BEGIN:DAYLIGHT
TZOFFSETFROM:-0500
TZOFFSETTO:-0400
TZNAME:EDT
DTSTART:20250309T070000
END:DAYLIGHT
BEGIN:STANDARD
TZOFFSETFROM:-0400
TZOFFSETTO:-0500
TZNAME:EST
DTSTART:20251102T060000
END:STANDARD
END:VTIMEZONE
BEGIN:VEVENT
DTSTART;VALUE=DATE:20250301
DTEND;VALUE=DATE:20250303
DTSTAMP:20260424T081615
CREATED:20241117T130226Z
LAST-MODIFIED:20241117T130226Z
UID:2748-1740787200-1740959999@multi-faithcalendar.org
SUMMARY:Feast of 'Ala' / Loftiness (Baha'i)
DESCRIPTION:Wherever they live\, Baha’is gather every 19 days for what we call a Feast. Observance begins at sunset on the 1st and ends at sunset on the 2nd. The month of fasting starts on March 1. This is a members-only event comprising three parts: \n1. A spiritual portion that’s the time for prayer and reflection; \n2. A business portion for consultation about administrative issues (plans for forming classes\, organizing to perform community service\, observing holy days\, or any ideas or projects community members wish to discuss. It’s also a time when local members can ask their Local Assembly to forward their concerns to the National Assembly; \n3. A social portion that can consist of anything from just glasses of water to a full-course dinner.
URL:https://multi-faithcalendar.org/events/feast-of-ala-loftiness-bahai-3/
CATEGORIES:2025,The Bahá’í Faith
END:VEVENT
BEGIN:VEVENT
DTSTART;VALUE=DATE:20250301
DTEND;VALUE=DATE:20250302
DTSTAMP:20260424T081615
CREATED:20241117T180249Z
LAST-MODIFIED:20241117T180249Z
UID:2750-1740787200-1740873599@multi-faithcalendar.org
SUMMARY:Month of Fasting Begins (Baha'i)
DESCRIPTION:Baha’is observe a 19-day month of fasting that culminates at sunset on the day of the spring equinox\, which lands either on March 20 or 21. Baha’is abstain from food and water during the day between sunrise and sunset. The Fast is a time to pray and reflect on developing our spiritual qualities. \nhttps://en.wikipedia.org/wiki/Nineteen-Day_Fast
URL:https://multi-faithcalendar.org/events/month-of-fasting-begins-bahai-5/
CATEGORIES:2025,The Bahá’í Faith
END:VEVENT
END:VCALENDAR