BEGIN:VCALENDAR
VERSION:2.0
PRODID:-//Cincy MultiFaith Calendar - ECPv6.15.1.1//NONSGML v1.0//EN
CALSCALE:GREGORIAN
METHOD:PUBLISH
X-ORIGINAL-URL:https://multi-faithcalendar.org
X-WR-CALDESC:Events for Cincy MultiFaith Calendar
REFRESH-INTERVAL;VALUE=DURATION:PT1H
X-Robots-Tag:noindex
X-PUBLISHED-TTL:PT1H
BEGIN:VTIMEZONE
TZID:America/New_York
BEGIN:DAYLIGHT
TZOFFSETFROM:-0500
TZOFFSETTO:-0400
TZNAME:EDT
DTSTART:20250309T070000
END:DAYLIGHT
BEGIN:STANDARD
TZOFFSETFROM:-0400
TZOFFSETTO:-0500
TZNAME:EST
DTSTART:20251102T060000
END:STANDARD
END:VTIMEZONE
BEGIN:VEVENT
DTSTART;VALUE=DATE:20250319
DTEND;VALUE=DATE:20250321
DTSTAMP:20260424T081614
CREATED:20241117T181105Z
LAST-MODIFIED:20241117T181105Z
UID:2766-1742342400-1742515199@multi-faithcalendar.org
SUMMARY:Naw-Ruz (The Bahá’í Faith)
DESCRIPTION:Baha’i New Year coincides with spring equinox. Ancient Persian festival celebrating “new day”. For Bahai’s it marks end of the annual 19 day Fast. End of Fast and is all day on March 20. \nHoliday Greeting: Happy Naw Ruz or Happy New Year \n\n\n\n\n\n\nExplanation of the Baha’i calendar.  Baha’i dates begin and end at sunset. Also\,  the first day of each month is the Feast Day (starts in the evening). The Baha’i calendar isn’t aligned with either the Gregorian or the lunar calendar.\n\n\n\n\n\n\n\nhttp://– https://www.bahai.us/events/holy-days/
URL:https://multi-faithcalendar.org/events/naw-ruz-the-bahai-faith-5/
CATEGORIES:2025,The Bahá’í Faith
END:VEVENT
BEGIN:VEVENT
DTSTART;VALUE=DATE:20250320
DTEND;VALUE=DATE:20250321
DTSTAMP:20260424T081614
CREATED:20241117T180831Z
LAST-MODIFIED:20241117T180831Z
UID:2762-1742428800-1742515199@multi-faithcalendar.org
SUMMARY:Ostara – Spring Equinox (Pagan)
DESCRIPTION:Spring Equinox or Ostara is celebrated March 21st or 22nd.  At the spring equinox\, the hours of daylight are exactly equal to the hours of night. It is the middle of spring. This holiday celebrates the blooming of the earth. It was named after the German goddess of spring\, Ostara\, known to the Anglo Saxons as Eostre\, whose symbols were the egg\, the rabbit\, and the chick. \nMore Information
URL:https://multi-faithcalendar.org/events/ostara-spring-equinox-pagan-5/
CATEGORIES:2025,Pagan
END:VEVENT
BEGIN:VEVENT
DTSTART;VALUE=DATE:20250320
DTEND;VALUE=DATE:20250321
DTSTAMP:20260424T081614
CREATED:20241117T181156Z
LAST-MODIFIED:20241117T181156Z
UID:2768-1742428800-1742515199@multi-faithcalendar.org
SUMMARY:Jamshedi Navroze (Parsi Zoroastrian)
DESCRIPTION:The spring equinox festival celebrated by Parsi Zoroastrians with family and friends. Celebrations may also include the Sofreh-e-Haft Seen table. \nHoliday Greeting: Navroze Mubarak \nChildren may miss school to celebrate with families \nMore Information
URL:https://multi-faithcalendar.org/events/jamshedi-navroze-parsi-zoroastrian-5/
CATEGORIES:2025,Parsi Zoroastrian
END:VEVENT
BEGIN:VEVENT
DTSTART;VALUE=DATE:20250320
DTEND;VALUE=DATE:20250321
DTSTAMP:20260424T081614
CREATED:20241117T181335Z
LAST-MODIFIED:20241117T181335Z
UID:2770-1742428800-1742515199@multi-faithcalendar.org
SUMMARY:Feast of Baha / Splendor (Baha'i)
DESCRIPTION:Wherever they live\, Baha’is gather every 19 days for what we call a Feast. This is a members-only event comprising three parts: \n1. A spiritual portion that’s the time for prayer and reflection; \n2. A business portion for consultation about administrative issues (plans for forming classes\, organizing to perform community service\, observing holy days\, or any ideas or projects community members wish to discuss. It’s also a time when local members can ask their Local Assembly to forward their concerns to the National Assembly; \n3. A social portion that can consist of anything from just glasses of water to a full-course dinner.
URL:https://multi-faithcalendar.org/events/feast-of-baha-splendor-bahai-3/
CATEGORIES:2025,The Bahá’í Faith
END:VEVENT
END:VCALENDAR