BEGIN:VCALENDAR
VERSION:2.0
PRODID:-//Cincy MultiFaith Calendar - ECPv6.15.1.1//NONSGML v1.0//EN
CALSCALE:GREGORIAN
METHOD:PUBLISH
X-WR-CALNAME:Cincy MultiFaith Calendar
X-ORIGINAL-URL:https://multi-faithcalendar.org
X-WR-CALDESC:Events for Cincy MultiFaith Calendar
REFRESH-INTERVAL;VALUE=DURATION:PT1H
X-Robots-Tag:noindex
X-PUBLISHED-TTL:PT1H
BEGIN:VTIMEZONE
TZID:America/New_York
BEGIN:DAYLIGHT
TZOFFSETFROM:-0500
TZOFFSETTO:-0400
TZNAME:EDT
DTSTART:20250309T070000
END:DAYLIGHT
BEGIN:STANDARD
TZOFFSETFROM:-0400
TZOFFSETTO:-0500
TZNAME:EST
DTSTART:20251102T060000
END:STANDARD
END:VTIMEZONE
BEGIN:VEVENT
DTSTART;VALUE=DATE:20250321
DTEND;VALUE=DATE:20250322
DTSTAMP:20260424T111416
CREATED:20241117T180924Z
LAST-MODIFIED:20241117T180924Z
UID:2764-1742515200-1742601599@multi-faithcalendar.org
SUMMARY:Nowruz  (Zoroastrian / Persian New Year)
DESCRIPTION:The arrival of spring is celebrated by the coming together of family in new clothes. Weeks before Nowruz\, homes are given a spring cleaning and festive foods are prepared. Also\, the Sofreh-e-Haft Seen table is set up.\n(what follows is included in the detailed description)\nThe Seen table is laid out with seven foods each beginning with the letter “S”: Sabzeh (growing sprouts of wheat symbolizing rebirt); Samanoo (a wheat pudding signifying rejuvenation); Seeb (apples symbolizing fruit of the earth); Seer (garlic for health); Senjed (lotus fruit represeting love and Beauty); Serkeh (vinegar for age and patience) and Somagh (orange sumac berries symbolizing sunrise which banishes the darkness). Other items on the table include a mirror\, candles\, painted eggs\, a bowl of water\, goldfish\, coins\, hyacinth\, pastries and a religious book. \nMore Information \nHoliday Greeting: Happy New Year or Nowruz Mubarak \nChildren may miss school to celebrate with families
URL:https://multi-faithcalendar.org/events/nowruz-zoroastrian-persian-new-year-5/
CATEGORIES:2025,Zoroastrian
END:VEVENT
END:VCALENDAR