BEGIN:VCALENDAR
VERSION:2.0
PRODID:-//Cincy MultiFaith Calendar - ECPv6.15.1.1//NONSGML v1.0//EN
CALSCALE:GREGORIAN
METHOD:PUBLISH
X-WR-CALNAME:Cincy MultiFaith Calendar
X-ORIGINAL-URL:https://multi-faithcalendar.org
X-WR-CALDESC:Events for Cincy MultiFaith Calendar
REFRESH-INTERVAL;VALUE=DURATION:PT1H
X-Robots-Tag:noindex
X-PUBLISHED-TTL:PT1H
BEGIN:VTIMEZONE
TZID:America/New_York
BEGIN:DAYLIGHT
TZOFFSETFROM:-0500
TZOFFSETTO:-0400
TZNAME:EDT
DTSTART:20250309T070000
END:DAYLIGHT
BEGIN:STANDARD
TZOFFSETFROM:-0400
TZOFFSETTO:-0500
TZNAME:EST
DTSTART:20251102T060000
END:STANDARD
END:VTIMEZONE
BEGIN:VEVENT
DTSTART;VALUE=DATE:20250326
DTEND;VALUE=DATE:20250327
DTSTAMP:20260424T080944
CREATED:20241117T182020Z
LAST-MODIFIED:20241117T182020Z
UID:2780-1742947200-1743033599@multi-faithcalendar.org
SUMMARY:Khordad Sal (Parsi Zoroastrian)
DESCRIPTION:Birth anniversary of Zarathushtra (Zoroaster)\, the founder of Zoroastrianism. Zoroastrians gather in Fire temples for prayers and then celebrate with a family feast. \nMore Information
URL:https://multi-faithcalendar.org/events/khordad-sal-parsi-zoroastrian-7/
CATEGORIES:2025,Parsi Zoroastrian
END:VEVENT
END:VCALENDAR