BEGIN:VCALENDAR
VERSION:2.0
PRODID:-//Cincy MultiFaith Calendar - ECPv6.15.1.1//NONSGML v1.0//EN
CALSCALE:GREGORIAN
METHOD:PUBLISH
X-WR-CALNAME:Cincy MultiFaith Calendar
X-ORIGINAL-URL:https://multi-faithcalendar.org
X-WR-CALDESC:Events for Cincy MultiFaith Calendar
REFRESH-INTERVAL;VALUE=DURATION:PT1H
X-Robots-Tag:noindex
X-PUBLISHED-TTL:PT1H
BEGIN:VTIMEZONE
TZID:America/New_York
BEGIN:DAYLIGHT
TZOFFSETFROM:-0500
TZOFFSETTO:-0400
TZNAME:EDT
DTSTART:20250309T070000
END:DAYLIGHT
BEGIN:STANDARD
TZOFFSETFROM:-0400
TZOFFSETTO:-0500
TZNAME:EST
DTSTART:20251102T060000
END:STANDARD
END:VTIMEZONE
BEGIN:VEVENT
DTSTART;VALUE=DATE:20250330
DTEND;VALUE=DATE:20250331
DTSTAMP:20260424T065130
CREATED:20241117T180436Z
LAST-MODIFIED:20241117T180436Z
UID:2754-1743292800-1743379199@multi-faithcalendar.org
SUMMARY:Ramadan Ends (Islam)
DESCRIPTION:This marks the the holy month where Muslims fast from sunrise to sunset for 30 days abstaining from food and drinks. \nMore Information \nHoliday Greeting: Ramadan Mubarak \nThere are evening prayers that some students may attend at the mosque during this month. Mostly middle and high school students will be fasting.
URL:https://multi-faithcalendar.org/events/ramadan-ends-islam-4/
CATEGORIES:2025,Islam
END:VEVENT
BEGIN:VEVENT
DTSTART;VALUE=DATE:20250330
DTEND;VALUE=DATE:20250401
DTSTAMP:20260424T065130
CREATED:20241117T183057Z
LAST-MODIFIED:20241117T183057Z
UID:2794-1743292800-1743465599@multi-faithcalendar.org
SUMMARY:Eid al-Fitr (Islam)
DESCRIPTION:This holiday marks the end of Ramadan\, the fasting month. It is a time of celebration and thankfulness of the self control practiced during the month. \nMore Information \nHoliday Greeting: “Eid Mubarak! (Happy Eid)” \nStudents will miss school to attend congregational prayers at the mosque and celebrate the holiday with their families/friends.
URL:https://multi-faithcalendar.org/events/eid-al-fitr-islam-4/
CATEGORIES:2025,Islam
END:VEVENT
END:VCALENDAR