BEGIN:VCALENDAR
VERSION:2.0
PRODID:-//Cincy MultiFaith Calendar - ECPv6.15.1.1//NONSGML v1.0//EN
CALSCALE:GREGORIAN
METHOD:PUBLISH
X-WR-CALNAME:Cincy MultiFaith Calendar
X-ORIGINAL-URL:https://multi-faithcalendar.org
X-WR-CALDESC:Events for Cincy MultiFaith Calendar
REFRESH-INTERVAL;VALUE=DURATION:PT1H
X-Robots-Tag:noindex
X-PUBLISHED-TTL:PT1H
BEGIN:VTIMEZONE
TZID:America/New_York
BEGIN:DAYLIGHT
TZOFFSETFROM:-0500
TZOFFSETTO:-0400
TZNAME:EDT
DTSTART:20250309T070000
END:DAYLIGHT
BEGIN:STANDARD
TZOFFSETFROM:-0400
TZOFFSETTO:-0500
TZNAME:EST
DTSTART:20251102T060000
END:STANDARD
END:VTIMEZONE
BEGIN:VEVENT
DTSTART;VALUE=DATE:20250412
DTEND;VALUE=DATE:20250421
DTSTAMP:20260424T065802
CREATED:20241117T184044Z
LAST-MODIFIED:20241117T184118Z
UID:2808-1744416000-1745193599@multi-faithcalendar.org
SUMMARY:Passover (Jewish)
DESCRIPTION:Passover\, known in Hebrew as Pesach\, commemorates the liberation of the Hebrew slaves from Egypt. A feast called a seder is held on the first two nights. During the seder\, the Exodus story is read aloud and freedom from slavery is celebrated. This is one of the most widely observed Jewish holidays. \nMore Information \nHoliday Greeting: Pesach Sameach (Happy Passover) \nNo food that is leavened (e.g.\, bread\, cake) or contains wheat is eaten. Matzah (unleavened bread) is often consumed instead. Work is traditionally prohibited on the first\, second\, seventh\, and eighth days. Absences may vary based on religious observance of the holiday.
URL:https://multi-faithcalendar.org/events/passover-jewish-3/
CATEGORIES:2025,April,Jewish
END:VEVENT
BEGIN:VEVENT
DTSTART;VALUE=DATE:20250419
DTEND;VALUE=DATE:20250420
DTSTAMP:20260424T065802
CREATED:20241117T182411Z
LAST-MODIFIED:20241117T182411Z
UID:2785-1745020800-1745107199@multi-faithcalendar.org
SUMMARY:Holy Saturday/The Great Vigil of Easter (Catholic/ Protestant/ Episcopal)
DESCRIPTION:On this most holy night\, in which our Lord Jesus passed over from death to life\, the Church invites her members\, dispersed throughout the world\, to gather in vigil and prayer. For this is the Passover of the Lord\, in which\, by hearing God’s Word and celebrating the Sacraments\, we share in Christ’s victory over death. (From the Episcopal Book of Common Prayer)
URL:https://multi-faithcalendar.org/events/holy-saturday-the-great-vigil-of-easter-catholic-protestant-episcopal-2/
CATEGORIES:2025,Catholic,Christian,Episcopal
END:VEVENT
BEGIN:VEVENT
DTSTART;VALUE=DATE:20250419
DTEND;VALUE=DATE:20250420
DTSTAMP:20260424T065802
CREATED:20241117T183305Z
LAST-MODIFIED:20241117T183305Z
UID:2798-1745020800-1745107199@multi-faithcalendar.org
SUMMARY:Vaisakhi – Khalsa Day (Sikh)
DESCRIPTION:On Vaisakhi in 1699\, the tenth Guru\, Guru Gobind Singh\, established the initiated community of Sikhs\, the Khalsa\, through the Amrit ceremony and became initiated himself too. Vaisakhi holds great significance in the history of the community. Sikhs acquire their formal\, distinct identity from this day onward. The identity includes the unique physical appearance and the names of Singh and Kaur. This new community of equals were to dedicate their lives to the service of others and pursuit of justice for all faiths. Vaisakhi has a deep spirit of equality\, unity\, identity\, and commitment for the Sikhs. Sikhs celebrate Vaisakhi by organizing religious services\, martial arts exhibitions\, parades\, etc. \nMore Information \nHoliday Greeting: “Vaisakhi di Lakh Lakh Vadhaaiaa Ji” – Infinite Congratulations for Vaisakhi \nStudents and Co-Workers may be absent this day to celebrate at home with their family and with the entire community at their local Gurdwara
URL:https://multi-faithcalendar.org/events/vaisakhi-khalsa-day-sikh-4/
CATEGORIES:2025,Sikh
END:VEVENT
END:VCALENDAR