BEGIN:VCALENDAR
VERSION:2.0
PRODID:-//Cincy MultiFaith Calendar - ECPv6.15.1.1//NONSGML v1.0//EN
CALSCALE:GREGORIAN
METHOD:PUBLISH
X-WR-CALNAME:Cincy MultiFaith Calendar
X-ORIGINAL-URL:https://multi-faithcalendar.org
X-WR-CALDESC:Events for Cincy MultiFaith Calendar
REFRESH-INTERVAL;VALUE=DURATION:PT1H
X-Robots-Tag:noindex
X-PUBLISHED-TTL:PT1H
BEGIN:VTIMEZONE
TZID:America/New_York
BEGIN:DAYLIGHT
TZOFFSETFROM:-0500
TZOFFSETTO:-0400
TZNAME:EDT
DTSTART:20250309T070000
END:DAYLIGHT
BEGIN:STANDARD
TZOFFSETFROM:-0400
TZOFFSETTO:-0500
TZNAME:EST
DTSTART:20251102T060000
END:STANDARD
END:VTIMEZONE
BEGIN:VEVENT
DTSTART;VALUE=DATE:20250423
DTEND;VALUE=DATE:20250425
DTSTAMP:20260424T065802
CREATED:20241117T190936Z
LAST-MODIFIED:20241117T190936Z
UID:2826-1745366400-1745539199@multi-faithcalendar.org
SUMMARY:Yom Ha'shoah (Jewish)
DESCRIPTION:Known in English as Holocaust Remembrance Day\, Yom Ha’Shoah commemorates the approximately six million Jews\, and five million others who perished in the Holocaust. Shoah in Hebrew means catastrophe. This is a national public holiday in Israel. In homes and synagogues around the world\, Jews will light memorial candles in commemoration of lives lost. The Holocaust and Humanity Center Museum located in Cincinnati’s Union Terminal highlights the history\, artifacts\, humanity education\, and stories of survivors and others who experienced the Holocaust. \nMore Information \nCommonly observed by synagogue attendance or family gatherings. Work is traditionally prohibited; individuals may be absent from school or work.
URL:https://multi-faithcalendar.org/events/yom-hashoah-jewish-4/
CATEGORIES:2025,Jewish
END:VEVENT
END:VCALENDAR