BEGIN:VCALENDAR
VERSION:2.0
PRODID:-//Cincy MultiFaith Calendar - ECPv6.15.1.1//NONSGML v1.0//EN
CALSCALE:GREGORIAN
METHOD:PUBLISH
X-ORIGINAL-URL:https://multi-faithcalendar.org
X-WR-CALDESC:Events for Cincy MultiFaith Calendar
REFRESH-INTERVAL;VALUE=DURATION:PT1H
X-Robots-Tag:noindex
X-PUBLISHED-TTL:PT1H
BEGIN:VTIMEZONE
TZID:America/New_York
BEGIN:DAYLIGHT
TZOFFSETFROM:-0500
TZOFFSETTO:-0400
TZNAME:EDT
DTSTART:20250309T070000
END:DAYLIGHT
BEGIN:STANDARD
TZOFFSETFROM:-0400
TZOFFSETTO:-0500
TZNAME:EST
DTSTART:20251102T060000
END:STANDARD
END:VTIMEZONE
BEGIN:VEVENT
DTSTART;VALUE=DATE:20251004
DTEND;VALUE=DATE:20251005
DTSTAMP:20260423T194751
CREATED:20241217T183229Z
LAST-MODIFIED:20241217T183229Z
UID:2948-1759536000-1759622399@multi-faithcalendar.org
SUMMARY:Feast of Saint Francis of Assisi (Catholic)
DESCRIPTION:Today\, Catholics celebrate Francis of Assisi\, who abandoned a life of luxury for a life devoted to Christian poverty\, interreligious dialogue and peacemaking. He is the founder of an order of priests\, and it is Francis who originated the practice of commemorating the birth of Jesus with the nativity scene. He is the patron saint of animals and the environment. \nMore Information can be found here. \nSome catholic parishes celebrate this feast day with prayer services held outdoors and a special blessing of animals.
URL:https://multi-faithcalendar.org/events/feast-of-saint-francis-of-assisi-catholic-4/
CATEGORIES:2025,Catholic,October
END:VEVENT
END:VCALENDAR