BEGIN:VCALENDAR
VERSION:2.0
PRODID:-//Cincy MultiFaith Calendar - ECPv6.15.1.1//NONSGML v1.0//EN
CALSCALE:GREGORIAN
METHOD:PUBLISH
X-ORIGINAL-URL:https://multi-faithcalendar.org
X-WR-CALDESC:Events for Cincy MultiFaith Calendar
REFRESH-INTERVAL;VALUE=DURATION:PT1H
X-Robots-Tag:noindex
X-PUBLISHED-TTL:PT1H
BEGIN:VTIMEZONE
TZID:America/New_York
BEGIN:DAYLIGHT
TZOFFSETFROM:-0500
TZOFFSETTO:-0400
TZNAME:EDT
DTSTART:20250309T070000
END:DAYLIGHT
BEGIN:STANDARD
TZOFFSETFROM:-0400
TZOFFSETTO:-0500
TZNAME:EST
DTSTART:20251102T060000
END:STANDARD
END:VTIMEZONE
BEGIN:VEVENT
DTSTART;VALUE=DATE:20251125
DTEND;VALUE=DATE:20251126
DTSTAMP:20260423T183805
CREATED:20241217T190921Z
LAST-MODIFIED:20241217T190921Z
UID:2994-1764028800-1764115199@multi-faithcalendar.org
SUMMARY:Day of the Covenant (Bahá’í)
DESCRIPTION:The festival commemorates Bahá’u’lláh’s appointment of His eldest son\, ‘Abdu’l-Bahá\, as the Center of His Covenant. \nWork is not prohibited\, children may attend school. \nMore Information
URL:https://multi-faithcalendar.org/events/day-of-the-covenant-bahai-4/
CATEGORIES:2025,November,The Bahá’í Faith
END:VEVENT
END:VCALENDAR