BEGIN:VCALENDAR
VERSION:2.0
PRODID:-//Cincy MultiFaith Calendar - ECPv6.15.1.1//NONSGML v1.0//EN
CALSCALE:GREGORIAN
METHOD:PUBLISH
X-WR-CALNAME:Cincy MultiFaith Calendar
X-ORIGINAL-URL:https://multi-faithcalendar.org
X-WR-CALDESC:Events for Cincy MultiFaith Calendar
REFRESH-INTERVAL;VALUE=DURATION:PT1H
X-Robots-Tag:noindex
X-PUBLISHED-TTL:PT1H
BEGIN:VTIMEZONE
TZID:America/New_York
BEGIN:DAYLIGHT
TZOFFSETFROM:-0500
TZOFFSETTO:-0400
TZNAME:EDT
DTSTART:20250309T070000
END:DAYLIGHT
BEGIN:STANDARD
TZOFFSETFROM:-0400
TZOFFSETTO:-0500
TZNAME:EST
DTSTART:20251102T060000
END:STANDARD
END:VTIMEZONE
BEGIN:VEVENT
DTSTART;VALUE=DATE:20251208
DTEND;VALUE=DATE:20251209
DTSTAMP:20260423T171944
CREATED:20241217T191251Z
LAST-MODIFIED:20241217T191251Z
UID:3000-1765152000-1765238399@multi-faithcalendar.org
SUMMARY:Buddha’s Enlightenment Day (Buddhism)
DESCRIPTION:Bodhi Day is observed in many mainstream Mahayana traditions including the traditional Zen and Pureland Buddhist schools of China\, Korea\, Japan\, and Vietnam. \nServices and traditions vary amongst Buddhist sects\, but all such services commemorate the Buddha’s achievement of Nirvana\, and what this means for Buddhism today. Individuals may choose to commemorate the event through additional meditation\, study of the Dharma\, chanting of Buddhist texts (sutras)\, or performing kind acts towards other beings. Some Buddhists celebrate with a traditional meal of tea\, cake\, and readings.
URL:https://multi-faithcalendar.org/events/buddhas-enlightenment-day-buddhism-5/
CATEGORIES:2025,Buddhist
END:VEVENT
BEGIN:VEVENT
DTSTART;VALUE=DATE:20251208
DTEND;VALUE=DATE:20251209
DTSTAMP:20260423T171944
CREATED:20241217T191342Z
LAST-MODIFIED:20241217T191342Z
UID:3002-1765152000-1765238399@multi-faithcalendar.org
SUMMARY:Immaculate Conception of the Blessed Virgin Mary (Catholic)
DESCRIPTION:Today\, Catholics celebrate the day that Mary\, the mother of Jesus\, was conceived by her mother Anna.  Catholics believe that Mary was conceived without original sin\, and so throughout her life her soul was immaculate\, or without the stain of sin. \nMore information can be found here.
URL:https://multi-faithcalendar.org/events/immaculate-conception-of-the-blessed-virgin-mary-catholic-7/
CATEGORIES:2025,Catholic,December
END:VEVENT
END:VCALENDAR