BEGIN:VCALENDAR
VERSION:2.0
PRODID:-//Cincy MultiFaith Calendar - ECPv6.15.1.1//NONSGML v1.0//EN
CALSCALE:GREGORIAN
METHOD:PUBLISH
X-WR-CALNAME:Cincy MultiFaith Calendar
X-ORIGINAL-URL:https://multi-faithcalendar.org
X-WR-CALDESC:Events for Cincy MultiFaith Calendar
REFRESH-INTERVAL;VALUE=DURATION:PT1H
X-Robots-Tag:noindex
X-PUBLISHED-TTL:PT1H
BEGIN:VTIMEZONE
TZID:America/New_York
BEGIN:DAYLIGHT
TZOFFSETFROM:-0500
TZOFFSETTO:-0400
TZNAME:EDT
DTSTART:20250309T070000
END:DAYLIGHT
BEGIN:STANDARD
TZOFFSETFROM:-0400
TZOFFSETTO:-0500
TZNAME:EST
DTSTART:20251102T060000
END:STANDARD
BEGIN:DAYLIGHT
TZOFFSETFROM:-0500
TZOFFSETTO:-0400
TZNAME:EDT
DTSTART:20260308T070000
END:DAYLIGHT
BEGIN:STANDARD
TZOFFSETFROM:-0400
TZOFFSETTO:-0500
TZNAME:EST
DTSTART:20261101T060000
END:STANDARD
END:VTIMEZONE
BEGIN:VEVENT
DTSTART;VALUE=DATE:20251214
DTEND;VALUE=DATE:20251223
DTSTAMP:20260423T172001
CREATED:20241217T191954Z
LAST-MODIFIED:20241217T191954Z
UID:3012-1765670400-1766447999@multi-faithcalendar.org
SUMMARY:Hanukkah (Jewish)
DESCRIPTION:Hanukkah\, also known as Hanukah\, Chanukah\, and Chanukkah can be spelled many different ways in English. It is an eight-day celebration known as the Festival of Lights marked by the lighting of candles using a special candle holder called a menorah or chanukiah. This holiday is where Jews celebrate their victory over a tyrant Greco-Syrian king and the rededication of the Temple in Jerusalem. As the story goes\, a small quantity of oil to light the Temple’s menorah miraculously lasted eight days. Traditions include a game involving spinning dreidels (tops)\, eating potato latkes (pancakes) and other oily foods\, and gift giving. \nMore Information \nHoliday Greeting: Happy Hanukkah! \nCommonly observed by synagogue attendance\, community or family gatherings.
URL:https://multi-faithcalendar.org/events/hanukkah-jewish-6/
CATEGORIES:2025,December,Jewish
END:VEVENT
BEGIN:VEVENT
DTSTART;VALUE=DATE:20251221
DTEND;VALUE=DATE:20251222
DTSTAMP:20260423T172001
CREATED:20241217T191750Z
LAST-MODIFIED:20241217T191750Z
UID:3008-1766275200-1766361599@multi-faithcalendar.org
SUMMARY:Yalda (Zoroastrian)
DESCRIPTION:Yalda is a winter solstice celebration. Friends and family gather on this longest and darkest night of the year to eat and celebrate late into the night\, around a fire which burns all night long. Red colored fruits like pomegranates and watermelons consumed. The red color in these fruits is symbolic of the light of the early morning. \nMore Information
URL:https://multi-faithcalendar.org/events/yalda-zoroastrian-6/
CATEGORIES:2025,December,Zoroastrian
END:VEVENT
BEGIN:VEVENT
DTSTART;VALUE=DATE:20251221
DTEND;VALUE=DATE:20251222
DTSTAMP:20260423T172001
CREATED:20241217T191851Z
LAST-MODIFIED:20241217T191851Z
UID:3010-1766275200-1766361599@multi-faithcalendar.org
SUMMARY:Martyrdom of the Elder Sahibzadas (Princes) at the Battle of Chamkaur (Sikh)
DESCRIPTION:The traditional title of this day is Shaheedi-Vaddey Sahibzaadey.  The word “Sahibzaada” means “son” in Punjabi\, and these two final events of the year refer to the martyrdom of all four of Guru Gobind Singh’s sons. All four of his sons gave up their lives fighting tyranny and oppression like their father\, Guru Gobind Singh\, and grandfather\, Guru Tegh Bahadur\, before them. The elder two sons\, Baba Ajit Singh and Baba Jujhar Singh\, died fighting in the Battle of Chamkaur at the age of 18 and 14 years old in 1705. The martyrdom of Guru Gobind Singh’s all four sons is an integral part of the Sikh history and it is commemorated with great energy at the end of the year. \nMore Information \nStudents and/or Co-Workers may visit their local Gurdwara at some point during the day
URL:https://multi-faithcalendar.org/events/martyrdom-of-the-elder-sahibzadas-princes-at-the-battle-of-chamkaur-sikh-5/
CATEGORIES:2025,December,Sikh
END:VEVENT
BEGIN:VEVENT
DTSTART;VALUE=DATE:20251221
DTEND;VALUE=DATE:20260102
DTSTAMP:20260423T172001
CREATED:20251030T215750Z
LAST-MODIFIED:20251030T215750Z
UID:3024-1766275200-1767311999@multi-faithcalendar.org
SUMMARY:Yule (Pagan)
DESCRIPTION:Yule or Winter Solstice is celebrated around December 21st or 22nd and is the first pagan holiday celebrated after the ending of the old year. This is the longest night and shortest day of the year\, and most likely the oldest holiday known to humankind. It celebrates the birth of the sun – the Divine Child is born. Symbols: The Yule Log\, evergreen trees\, stars. \nMore Information
URL:https://multi-faithcalendar.org/events/yule-pagan-5/
CATEGORIES:2025,2026,Pagan
END:VEVENT
END:VCALENDAR