BEGIN:VCALENDAR
VERSION:2.0
PRODID:-//Cincy MultiFaith Calendar - ECPv6.15.1.1//NONSGML v1.0//EN
CALSCALE:GREGORIAN
METHOD:PUBLISH
X-ORIGINAL-URL:https://multi-faithcalendar.org
X-WR-CALDESC:Events for Cincy MultiFaith Calendar
REFRESH-INTERVAL;VALUE=DURATION:PT1H
X-Robots-Tag:noindex
X-PUBLISHED-TTL:PT1H
BEGIN:VTIMEZONE
TZID:America/New_York
BEGIN:DAYLIGHT
TZOFFSETFROM:-0500
TZOFFSETTO:-0400
TZNAME:EDT
DTSTART:20260308T070000
END:DAYLIGHT
BEGIN:STANDARD
TZOFFSETFROM:-0400
TZOFFSETTO:-0500
TZNAME:EST
DTSTART:20261101T060000
END:STANDARD
END:VTIMEZONE
BEGIN:VEVENT
DTSTART;VALUE=DATE:20260114
DTEND;VALUE=DATE:20260115
DTSTAMP:20260423T153510
CREATED:20251030T224422Z
LAST-MODIFIED:20251030T224422Z
UID:3040-1768348800-1768435199@multi-faithcalendar.org
SUMMARY:Makar Sankranti (Hindu)
DESCRIPTION:The festivities associated with Makar Sankranti are known by various names in different parts of India and the Hindu world. Names include Magh Bihu\, Maghi (preceded by Lohri)\,  Thai Pongal and so on. It also marks the day of Winter Solstice as per the Hindu tradition. \nMakara Sankranti is observed with social festivities such as colorful decorations\, rural children going house to house\, singing and asking for treats in some areas \, melas(fairs)\, dances\, kite flying\, bonfires and feasts. The Magha Mela is mentioned in the Hindu epic Mahabharat. Many observers go to sacred rivers or lakes and bathe in a ceremony of thanks to the sun. Every twelve years (marking one complete revolution of Jupiter around the Sun) the Hindus observe Makar Sankranti with one of the world’s largest mass pilgrimages\, with an estimated 40 to 100 million people attending the event. At this event\, then they say a prayer to the sun and bathe at the Prayaga confluence of the River Ganga and River Yamuna at the Kumbha Mela. \nMore information can be found here and here.
URL:https://multi-faithcalendar.org/events/makar-sankranti-hindu-7/
CATEGORIES:2026,Hindu
END:VEVENT
END:VCALENDAR