BEGIN:VCALENDAR
VERSION:2.0
PRODID:-//Cincy MultiFaith Calendar - ECPv6.15.1.1//NONSGML v1.0//EN
CALSCALE:GREGORIAN
METHOD:PUBLISH
X-WR-CALNAME:Cincy MultiFaith Calendar
X-ORIGINAL-URL:https://multi-faithcalendar.org
X-WR-CALDESC:Events for Cincy MultiFaith Calendar
REFRESH-INTERVAL;VALUE=DURATION:PT1H
X-Robots-Tag:noindex
X-PUBLISHED-TTL:PT1H
BEGIN:VTIMEZONE
TZID:America/New_York
BEGIN:DAYLIGHT
TZOFFSETFROM:-0500
TZOFFSETTO:-0400
TZNAME:EDT
DTSTART:20260308T070000
END:DAYLIGHT
BEGIN:STANDARD
TZOFFSETFROM:-0400
TZOFFSETTO:-0500
TZNAME:EST
DTSTART:20261101T060000
END:STANDARD
END:VTIMEZONE
BEGIN:VEVENT
DTSTART;VALUE=DATE:20260205
DTEND;VALUE=DATE:20260206
DTSTAMP:20260423T141917
CREATED:20251030T225342Z
LAST-MODIFIED:20251030T225405Z
UID:3054-1770249600-1770335999@multi-faithcalendar.org
SUMMARY:1762 Vadda Ghalughara (Sikh)
DESCRIPTION:The second Sikh genocide was the mass killing of Sikhs by the Afghani Durrani Forces in February of 1762 during his sixth invasion of India in the present day state of Punjab in India. An estimated 25\,000 – 30\,000 Sikhs including women and children were killed\, which was nearly half of the Sikh population at the time. Sikhs were persecuted for decades prior to this massacre. \nMore Information:\nVadda Ghallughara – Sikh Holocaust\nSikh Nation’s Sovereign: Jassa Singh Ahluvalia – Harinder Singh \nStudents and/or Co-Workers may visit their local Gurdwara and pay respects to Sikh Martyrs.
URL:https://multi-faithcalendar.org/events/1762-vadda-ghalughara-sikh-6/
CATEGORIES:2026,Sikh
END:VEVENT
END:VCALENDAR