BEGIN:VCALENDAR
VERSION:2.0
PRODID:-//Cincy MultiFaith Calendar - ECPv6.15.1.1//NONSGML v1.0//EN
CALSCALE:GREGORIAN
METHOD:PUBLISH
X-ORIGINAL-URL:https://multi-faithcalendar.org
X-WR-CALDESC:Events for Cincy MultiFaith Calendar
REFRESH-INTERVAL;VALUE=DURATION:PT1H
X-Robots-Tag:noindex
X-PUBLISHED-TTL:PT1H
BEGIN:VTIMEZONE
TZID:America/New_York
BEGIN:DAYLIGHT
TZOFFSETFROM:-0500
TZOFFSETTO:-0400
TZNAME:EDT
DTSTART:20260308T070000
END:DAYLIGHT
BEGIN:STANDARD
TZOFFSETFROM:-0400
TZOFFSETTO:-0500
TZNAME:EST
DTSTART:20261101T060000
END:STANDARD
END:VTIMEZONE
BEGIN:VEVENT
DTSTART;VALUE=DATE:20260316
DTEND;VALUE=DATE:20260321
DTSTAMP:20260423T141602
CREATED:20251030T235507Z
LAST-MODIFIED:20251030T235507Z
UID:3082-1773619200-1774051199@multi-faithcalendar.org
SUMMARY:Hamaspathmaidyem Gahambar (Zoroastrian)
DESCRIPTION:Commemoration and remembrance of all departed souls. Homes and temples are thoroughly cleaned; for it is believed that the souls of departed loved ones (fravashis) visit the physical world during this time\, to bless and protect the living. \nMore Information
URL:https://multi-faithcalendar.org/events/hamaspathmaidyem-gahambar-zoroastrian-5/
CATEGORIES:2026,Zoroastrian
END:VEVENT
BEGIN:VEVENT
DTSTART;VALUE=DATE:20260319
DTEND;VALUE=DATE:20260321
DTSTAMP:20260423T141602
CREATED:20251031T000716Z
LAST-MODIFIED:20251031T000716Z
UID:3098-1773878400-1774051199@multi-faithcalendar.org
SUMMARY:Eid al-Fitr (Islam)
DESCRIPTION:This holiday marks the end of Ramadan\, the fasting month. It is a time of celebration and thankfulness of the self control practiced during the month. \nMore Information \nHoliday Greeting: “Eid Mubarak! (Happy Eid)” \nStudents will miss school to attend congregational prayers at the mosque and celebrate the holiday with their families/friends.
URL:https://multi-faithcalendar.org/events/eid-al-fitr-islam-5/
CATEGORIES:2026,Islam
END:VEVENT
BEGIN:VEVENT
DTSTART;VALUE=DATE:20260320
DTEND;VALUE=DATE:20260322
DTSTAMP:20260423T141602
CREATED:20251030T235658Z
LAST-MODIFIED:20251030T235721Z
UID:3086-1773964800-1774137599@multi-faithcalendar.org
SUMMARY:Naw-Ruz (The Bahá’í Faith)
DESCRIPTION:Baha’i New Year coincides with spring equinox. Ancient Persian festival celebrating “new day”. For Bahai’s it marks end of the annual 19 day Fast. End of Fast and is all day on March 20. \nHoliday Greeting: Happy Naw Ruz or Happy New Year \n\n\n\n\n\n\nExplanation of the Baha’i calendar.  Baha’i dates begin and end at sunset. Also\,  the first day of each month is the Feast Day (starts in the evening). The Baha’i calendar isn’t aligned with either the Gregorian or the lunar calendar.\n\n\n\n\n\n\n\nhttp://– https://www.bahai.us/events/holy-days/
URL:https://multi-faithcalendar.org/events/naw-ruz-the-bahai-faith-6/
CATEGORIES:2026,The Bahá’í Faith
END:VEVENT
BEGIN:VEVENT
DTSTART;VALUE=DATE:20260320
DTEND;VALUE=DATE:20260321
DTSTAMP:20260423T141602
CREATED:20251030T235825Z
LAST-MODIFIED:20251030T235825Z
UID:3088-1773964800-1774051199@multi-faithcalendar.org
SUMMARY:Ostara – Spring Equinox (Pagan)
DESCRIPTION:Spring Equinox or Ostara is celebrated March 21st or 22nd.  At the spring equinox\, the hours of daylight are exactly equal to the hours of night. It is the middle of spring. This holiday celebrates the blooming of the earth. It was named after the German goddess of spring\, Ostara\, known to the Anglo Saxons as Eostre\, whose symbols were the egg\, the rabbit\, and the chick. \nMore Information
URL:https://multi-faithcalendar.org/events/ostara-spring-equinox-pagan-6/
CATEGORIES:2026,Pagan
END:VEVENT
BEGIN:VEVENT
DTSTART;VALUE=DATE:20260320
DTEND;VALUE=DATE:20260321
DTSTAMP:20260423T141602
CREATED:20251030T235947Z
LAST-MODIFIED:20251031T000108Z
UID:3090-1773964800-1774051199@multi-faithcalendar.org
SUMMARY:Jamshedi Navroze (Parsi Zoroastrian)
DESCRIPTION:The spring equinox festival celebrated by Parsi Zoroastrians with family and friends. Celebrations may also include the Sofreh-e-Haft Seen table. \nHoliday Greeting: Navroze Mubarak \nChildren may miss school to celebrate with families \nMore Information
URL:https://multi-faithcalendar.org/events/jamshedi-navroze-parsi-zoroastrian-6/
CATEGORIES:2026,Parsi Zoroastrian
END:VEVENT
END:VCALENDAR