BEGIN:VCALENDAR
VERSION:2.0
PRODID:-//Cincy MultiFaith Calendar - ECPv6.15.1.1//NONSGML v1.0//EN
CALSCALE:GREGORIAN
METHOD:PUBLISH
X-ORIGINAL-URL:https://multi-faithcalendar.org
X-WR-CALDESC:Events for Cincy MultiFaith Calendar
REFRESH-INTERVAL;VALUE=DURATION:PT1H
X-Robots-Tag:noindex
X-PUBLISHED-TTL:PT1H
BEGIN:VTIMEZONE
TZID:America/New_York
BEGIN:DAYLIGHT
TZOFFSETFROM:-0500
TZOFFSETTO:-0400
TZNAME:EDT
DTSTART:20260308T070000
END:DAYLIGHT
BEGIN:STANDARD
TZOFFSETFROM:-0400
TZOFFSETTO:-0500
TZNAME:EST
DTSTART:20261101T060000
END:STANDARD
END:VTIMEZONE
BEGIN:VEVENT
DTSTART;VALUE=DATE:20260401
DTEND;VALUE=DATE:20260410
DTSTAMP:20260423T113902
CREATED:20251104T233238Z
LAST-MODIFIED:20251104T233238Z
UID:3106-1775001600-1775779199@multi-faithcalendar.org
SUMMARY:Passover (Jewish)
DESCRIPTION:Passover\, known in Hebrew as Pesach\, commemorates the liberation of the Hebrew slaves from Egypt. A feast called a seder is held on the first two nights. During the seder\, the Exodus story is read aloud and freedom from slavery is celebrated. This is one of the most widely observed Jewish holidays. \nMore Information \nHoliday Greeting: Pesach Sameach (Happy Passover) \nNo food that is leavened (e.g.\, bread\, cake) or contains wheat is eaten. Matzah (unleavened bread) is often consumed instead. Work is traditionally prohibited on the first\, second\, seventh\, and eighth days. Absences may vary based on religious observance of the holiday.
URL:https://multi-faithcalendar.org/events/passover-jewish-4/
CATEGORIES:2026,April,Jewish
END:VEVENT
BEGIN:VEVENT
DTSTART;VALUE=DATE:20260405
DTEND;VALUE=DATE:20260406
DTSTAMP:20260423T113902
CREATED:20251104T235724Z
LAST-MODIFIED:20251104T235724Z
UID:3128-1775347200-1775433599@multi-faithcalendar.org
SUMMARY:Easter Sunday (Catholic / Christian Protestant/ The Church of Jesus Christ of Latter-Day Saints)
DESCRIPTION:A festival and holiday celebrating the resurrection of Jesus Christ from the dead.  After He died on the cross\, his body was placed in a tomb\, where it remained for three days\, separated from His spirit\, until on Sunday\, when he was resurrected. It is the most important day of the Christian calendar. \nMore information from The Church of Jesus Christ of Latter-day Saints\nMore information from the Catholic Church\nMore information from the Christian Methodist Episcopal Church\nHoliday Greeting: Happy Easter!
URL:https://multi-faithcalendar.org/events/easter-sunday-catholic-christian-protestant-the-church-of-jesus-christ-of-latter-day-saints-4/
CATEGORIES:2026,Catholic,Christian,Christian Protestant,Hispanic,The Church of Jesus Christ of Latter-day Saints
END:VEVENT
END:VCALENDAR