BEGIN:VCALENDAR
VERSION:2.0
PRODID:-//Cincy MultiFaith Calendar - ECPv6.15.1.1//NONSGML v1.0//EN
CALSCALE:GREGORIAN
METHOD:PUBLISH
X-WR-CALNAME:Cincy MultiFaith Calendar
X-ORIGINAL-URL:https://multi-faithcalendar.org
X-WR-CALDESC:Events for Cincy MultiFaith Calendar
REFRESH-INTERVAL;VALUE=DURATION:PT1H
X-Robots-Tag:noindex
X-PUBLISHED-TTL:PT1H
BEGIN:VTIMEZONE
TZID:America/New_York
BEGIN:DAYLIGHT
TZOFFSETFROM:-0500
TZOFFSETTO:-0400
TZNAME:EDT
DTSTART:20260308T070000
END:DAYLIGHT
BEGIN:STANDARD
TZOFFSETFROM:-0400
TZOFFSETTO:-0500
TZNAME:EST
DTSTART:20261101T060000
END:STANDARD
END:VTIMEZONE
BEGIN:VEVENT
DTSTART;VALUE=DATE:20260401
DTEND;VALUE=DATE:20260410
DTSTAMP:20260423T114113
CREATED:20251104T233238Z
LAST-MODIFIED:20251104T233238Z
UID:3106-1775001600-1775779199@multi-faithcalendar.org
SUMMARY:Passover (Jewish)
DESCRIPTION:Passover\, known in Hebrew as Pesach\, commemorates the liberation of the Hebrew slaves from Egypt. A feast called a seder is held on the first two nights. During the seder\, the Exodus story is read aloud and freedom from slavery is celebrated. This is one of the most widely observed Jewish holidays. \nMore Information \nHoliday Greeting: Pesach Sameach (Happy Passover) \nNo food that is leavened (e.g.\, bread\, cake) or contains wheat is eaten. Matzah (unleavened bread) is often consumed instead. Work is traditionally prohibited on the first\, second\, seventh\, and eighth days. Absences may vary based on religious observance of the holiday.
URL:https://multi-faithcalendar.org/events/passover-jewish-4/
CATEGORIES:2026,April,Jewish
END:VEVENT
BEGIN:VEVENT
DTSTART;VALUE=DATE:20260408
DTEND;VALUE=DATE:20260410
DTSTAMP:20260423T114113
CREATED:20251104T232514Z
LAST-MODIFIED:20251104T232514Z
UID:3100-1775606400-1775779199@multi-faithcalendar.org
SUMMARY:Feast of Jalal / Glory (Baha'i)
DESCRIPTION:Wherever they live\, Baha’is gather every 19 days for what we call a Feast. Observance begins at midnight on April 7th. This is a members-only event comprising three parts: \n1. A spiritual portion that’s the time for prayer and reflection; \n2. A business portion for consultation about administrative issues (plans for forming classes\, organizing to perform community service\, observing holy days\, or any ideas or projects community members wish to discuss. It’s also a time when local members can ask their Local Assembly to forward their concerns to the National Assembly; \n3. A social portion that can consist of anything from just glasses of water to a full-course dinner.
URL:https://multi-faithcalendar.org/events/feast-of-jalal-glory-bahai-4/
CATEGORIES:2026,The Bahá’í Faith
END:VEVENT
BEGIN:VEVENT
DTSTART;VALUE=DATE:20260408
DTEND;VALUE=DATE:20260409
DTSTAMP:20260423T114113
CREATED:20251104T232633Z
LAST-MODIFIED:20251104T232633Z
UID:3102-1775606400-1775692799@multi-faithcalendar.org
SUMMARY:Jashan-e Fravardegan (Zoroastrian)
DESCRIPTION:Jashan-e Fravardegan is a celebration ceremony\, a Jashan\, performed on Fravardin day of\nFravardin month\, in honor of fravashis\, the souls of all the righteous people who have ever lived in our world. In Zoroastrianism\, we have special prayers dedicated to honoring and remembering with respect and love the souls of our beloved departed as well as all the righteous souls in the universe.\nRighteous people with their righteous actions throughout their lives help in progressing our world further. Hence\, in this Jashan especially\, we show our respect to all such righteous souls who have helped in the progress of our world so far\, and we seek their blessings so we too can follow in their footsteps and perform righteous actions to further the progress of our world in our lifetime.
URL:https://multi-faithcalendar.org/events/jashan-e-fravardegan-zoroastrian-5/
CATEGORIES:2026,Zoroastrian
END:VEVENT
END:VCALENDAR