BEGIN:VCALENDAR
VERSION:2.0
PRODID:-//Cincy MultiFaith Calendar - ECPv6.15.1.1//NONSGML v1.0//EN
CALSCALE:GREGORIAN
METHOD:PUBLISH
X-WR-CALNAME:Cincy MultiFaith Calendar
X-ORIGINAL-URL:https://multi-faithcalendar.org
X-WR-CALDESC:Events for Cincy MultiFaith Calendar
REFRESH-INTERVAL;VALUE=DURATION:PT1H
X-Robots-Tag:noindex
X-PUBLISHED-TTL:PT1H
BEGIN:VTIMEZONE
TZID:America/New_York
BEGIN:DAYLIGHT
TZOFFSETFROM:-0500
TZOFFSETTO:-0400
TZNAME:EDT
DTSTART:20260308T070000
END:DAYLIGHT
BEGIN:STANDARD
TZOFFSETFROM:-0400
TZOFFSETTO:-0500
TZNAME:EST
DTSTART:20261101T060000
END:STANDARD
END:VTIMEZONE
BEGIN:VEVENT
DTSTART;VALUE=DATE:20260420
DTEND;VALUE=DATE:20260422
DTSTAMP:20260423T113040
CREATED:20251105T001045Z
LAST-MODIFIED:20251105T001045Z
UID:3139-1776643200-1776815999@multi-faithcalendar.org
SUMMARY:Yom HaZikaron (Jewish)
DESCRIPTION:Yom HaZikaron is Israel’s Memorial Day\, observed both in Israel and in many Jewish communities around the world. A day to remember and honor soldiers who lost their lives fighting in the War of Independence and subsequent battles. It is also a day to remember civilian victims of terrorism. \nMore Information \nCommonly observed by synagogue attendance\, family or community gatherings. In Israel\, at 12 noon sirens are sounded and the whole country\, even cars on highways\, will stop for a commemorative moment.
URL:https://multi-faithcalendar.org/events/yom-hazikaron-jewish-5/
CATEGORIES:2026,Jewish
END:VEVENT
BEGIN:VEVENT
DTSTART;VALUE=DATE:20260421
DTEND;VALUE=DATE:20260422
DTSTAMP:20260423T113040
CREATED:20251104T235423Z
LAST-MODIFIED:20251104T235423Z
UID:3126-1776729600-1776815999@multi-faithcalendar.org
SUMMARY:First Day of Ridvan (The Bahá’í Faith)
DESCRIPTION:1st Day of Festival of Ridvan-**(There are three holy Days as part of the Festival\, the first day\, the ninth and the twelfth.) The annual Baha’i Festival commemorates the 12 days when Baha’u’llah\, the founder of the Faith\, publicly proclaimed his mission as God’s messenger. Begins at sundown on April 19 and ends at sunset on April 20. \nHoliday Greeting: Happy Ridvan \nWork is to be suspended and children excused from school. \nMore Information
URL:https://multi-faithcalendar.org/events/first-day-of-ridvan-the-bahai-faith-5/
CATEGORIES:2026,April,The Bahá’í Faith
END:VEVENT
BEGIN:VEVENT
DTSTART;VALUE=DATE:20260421
DTEND;VALUE=DATE:20260423
DTSTAMP:20260423T113040
CREATED:20251105T002244Z
LAST-MODIFIED:20251105T002244Z
UID:3147-1776729600-1776902399@multi-faithcalendar.org
SUMMARY:Yom HaAtzma'ut (Jewish)
DESCRIPTION:Yom HaAtzma’ut\, also known as Israel’s Independence Day\, is celebrated on the fifth day of the month of Iyar\, which is the Hebrew date of the formal establishment of the State of Israel\, when members of the “provisional government” read and signed a Declaration of Independence in Tel Aviv. The original date corresponded to May 14\, 1948. \nMore Information \nCommonly observed by synagogue attendance\, community or family gatherings.
URL:https://multi-faithcalendar.org/events/yom-haatzmaut-jewish-5/
CATEGORIES:2026,Jewish
END:VEVENT
END:VCALENDAR