BEGIN:VCALENDAR
VERSION:2.0
PRODID:-//Cincy MultiFaith Calendar - ECPv6.15.1.1//NONSGML v1.0//EN
CALSCALE:GREGORIAN
METHOD:PUBLISH
X-ORIGINAL-URL:https://multi-faithcalendar.org
X-WR-CALDESC:Events for Cincy MultiFaith Calendar
REFRESH-INTERVAL;VALUE=DURATION:PT1H
X-Robots-Tag:noindex
X-PUBLISHED-TTL:PT1H
BEGIN:VTIMEZONE
TZID:America/New_York
BEGIN:DAYLIGHT
TZOFFSETFROM:-0500
TZOFFSETTO:-0400
TZNAME:EDT
DTSTART:20260308T070000
END:DAYLIGHT
BEGIN:STANDARD
TZOFFSETFROM:-0400
TZOFFSETTO:-0500
TZNAME:EST
DTSTART:20261101T060000
END:STANDARD
END:VTIMEZONE
BEGIN:VEVENT
DTSTART;VALUE=DATE:20260430
DTEND;VALUE=DATE:20260505
DTSTAMP:20260423T113855
CREATED:20251105T001208Z
LAST-MODIFIED:20251105T001208Z
UID:3141-1777507200-1777939199@multi-faithcalendar.org
SUMMARY:Maidyozarem Gahambar (Zoroastrian)
DESCRIPTION:Maidyozarem (literally: midgreening) Gahambar is a seasonal festival celebrated in mid-spring. It is considered a religious duty to participate in a communal jashan prayer ceremony; as well as\, fraternize and share a simple meal with fellow co-religionists from all walks of life\, rich and poor. \nMore Information
URL:https://multi-faithcalendar.org/events/maidyozarem-gahambar-zoroastrian-5/
CATEGORIES:2026,April,May,Zoroastrian
END:VEVENT
BEGIN:VEVENT
DTSTART;VALUE=DATE:20260501
DTEND;VALUE=DATE:20260502
DTSTAMP:20260423T113855
CREATED:20251105T002439Z
LAST-MODIFIED:20251105T002439Z
UID:3149-1777593600-1777679999@multi-faithcalendar.org
SUMMARY:Beltane (Pagan)
DESCRIPTION:Beltane: is celebrated on May 1st halfway between Spring Equinox and Summer Solstice. It is the beginning of summer. Among pastoral people this was when the flocks and herds were moved from the lower winter pasture to the higher summer pasture. To ensure fertility\, the livestock was herded between two fires. This holiday celebrates fertility and sexuality. This is a time for fun and frolic. Jumping over the fire is part of the ritual. \nMore Information
URL:https://multi-faithcalendar.org/events/beltane-pagan-5/
CATEGORIES:2026,Pagan
END:VEVENT
BEGIN:VEVENT
DTSTART;VALUE=DATE:20260501
DTEND;VALUE=DATE:20260502
DTSTAMP:20260423T113855
CREATED:20251128T232201Z
LAST-MODIFIED:20251128T232201Z
UID:3154-1777593600-1777679999@multi-faithcalendar.org
SUMMARY:Vesak - Buddha's Birthday (Buddhism)
DESCRIPTION:Traditionally\, Buddha’s Birthday is known as Vesak or Visakah Puja (Buddha’s Birthday Celebrations). Vesak is the major Buddhist festival of the year as it celebrates the birth\, enlightenment and death of the Buddha on the one day\, the first full moon day in May\, except in a leap year when the festival is held in June. This celebration is called Vesak being the name of the month in the Indian calendar. \nBuddhist Festivals are always joyful occasions. Typically on a festival day\, lay people will go the the local temple or monastery and offer food to the monks and take the Five Precepts and listen to a Dharma talk. In the afternoon\, they distribute food to the poor to make merit and in the evening join perhaps in a ceremony of circumambulation a stupa three time as a sign of respect to the Buddha\, Dhamma\, Sangha. The day will conclude with evening chanting of the Buddha’s teachings and meditation. \nMore Information
URL:https://multi-faithcalendar.org/events/vesak-buddhas-birthday-buddhism-5/
CATEGORIES:2026,Buddhist,May
END:VEVENT
END:VCALENDAR