BEGIN:VCALENDAR
VERSION:2.0
PRODID:-//Cincy MultiFaith Calendar - ECPv6.15.1.1//NONSGML v1.0//EN
CALSCALE:GREGORIAN
METHOD:PUBLISH
X-WR-CALNAME:Cincy MultiFaith Calendar
X-ORIGINAL-URL:https://multi-faithcalendar.org
X-WR-CALDESC:Events for Cincy MultiFaith Calendar
REFRESH-INTERVAL;VALUE=DURATION:PT1H
X-Robots-Tag:noindex
X-PUBLISHED-TTL:PT1H
BEGIN:VTIMEZONE
TZID:America/New_York
BEGIN:DAYLIGHT
TZOFFSETFROM:-0500
TZOFFSETTO:-0400
TZNAME:EDT
DTSTART:20260308T070000
END:DAYLIGHT
BEGIN:STANDARD
TZOFFSETFROM:-0400
TZOFFSETTO:-0500
TZNAME:EST
DTSTART:20261101T060000
END:STANDARD
END:VTIMEZONE
BEGIN:VEVENT
DTSTART;VALUE=DATE:20260607
DTEND;VALUE=DATE:20260608
DTSTAMP:20260423T115540
CREATED:20251129T000020Z
LAST-MODIFIED:20251129T000020Z
UID:3184-1780790400-1780876799@multi-faithcalendar.org
SUMMARY:Corpus Christi (Catholic)
DESCRIPTION:Also known as The Most Holy Body and Blood of Christ\, today is a Solemnity\, a feast of the highest rank in the Roman Catholic Church\, honoring the Holy Eucharist\, bread and wine which is ritually blessed and consumed during mass.  Catholics believe this ritual blessing transubstantiates\, or changes the substance of the bread and wine\, so that it becomes the Real Presence\, or body and blood of Jesus Christ. This solemnity places a special emphasis on the Real Presence of the Lord Jesus Christ in the Eucharist. It is celebrated the Sunday after Trinity Sunday. \nMore Information:\nSolemnity of the Most Holy Body and Blood of Christ\nCorpus Christi
URL:https://multi-faithcalendar.org/events/corpus-christi-catholic-4/
CATEGORIES:2026,Catholic,Hispanic
END:VEVENT
END:VCALENDAR