BEGIN:VCALENDAR
VERSION:2.0
PRODID:-//Cincy MultiFaith Calendar - ECPv6.15.1.1//NONSGML v1.0//EN
CALSCALE:GREGORIAN
METHOD:PUBLISH
X-ORIGINAL-URL:https://multi-faithcalendar.org
X-WR-CALDESC:Events for Cincy MultiFaith Calendar
REFRESH-INTERVAL;VALUE=DURATION:PT1H
X-Robots-Tag:noindex
X-PUBLISHED-TTL:PT1H
BEGIN:VTIMEZONE
TZID:America/New_York
BEGIN:DAYLIGHT
TZOFFSETFROM:-0500
TZOFFSETTO:-0400
TZNAME:EDT
DTSTART:20260308T070000
END:DAYLIGHT
BEGIN:STANDARD
TZOFFSETFROM:-0400
TZOFFSETTO:-0500
TZNAME:EST
DTSTART:20261101T060000
END:STANDARD
END:VTIMEZONE
BEGIN:VEVENT
DTSTART;VALUE=DATE:20260629
DTEND;VALUE=DATE:20260704
DTSTAMP:20260423T113123
CREATED:20251129T000848Z
LAST-MODIFIED:20251129T000848Z
UID:3194-1782691200-1783123199@multi-faithcalendar.org
SUMMARY:Maidyoshahem Gahambar (Zoroastrian)
DESCRIPTION:Maidyoshahem (literally: Midsummer) Gahambar is a seasonal festival celebrated on the summer solstice. It is considered a religious duty to participate in a communal jashan prayer ceremony; as well as\, fraternize and share a simple meal with fellow co-religionists from all walks of life\, rich and poor. \nMore Information
URL:https://multi-faithcalendar.org/events/maidyoshahem-gahambar-zoroastrian-5/
CATEGORIES:2026,July,June,Zoroastrian
END:VEVENT
BEGIN:VEVENT
DTSTART;VALUE=DATE:20260701
DTEND;VALUE=DATE:20260702
DTSTAMP:20260423T113123
CREATED:20251129T001130Z
LAST-MODIFIED:20251129T001130Z
UID:3198-1782864000-1782950399@multi-faithcalendar.org
SUMMARY:Jashan-e Tiragan (Zoroastrian)
DESCRIPTION:A mid-summer festival honoring water and rain. It is celebrated by splashing water on friends and family. It is also associated with the legend of the arrow. \nMore Information
URL:https://multi-faithcalendar.org/events/jashan-e-tiragan-zoroastrian-5/
CATEGORIES:2026,July,Zoroastrian
END:VEVENT
END:VCALENDAR