BEGIN:VCALENDAR
VERSION:2.0
PRODID:-//Cincy MultiFaith Calendar - ECPv6.15.1.1//NONSGML v1.0//EN
CALSCALE:GREGORIAN
METHOD:PUBLISH
X-WR-CALNAME:Cincy MultiFaith Calendar
X-ORIGINAL-URL:https://multi-faithcalendar.org
X-WR-CALDESC:Events for Cincy MultiFaith Calendar
REFRESH-INTERVAL;VALUE=DURATION:PT1H
X-Robots-Tag:noindex
X-PUBLISHED-TTL:PT1H
BEGIN:VTIMEZONE
TZID:America/New_York
BEGIN:DAYLIGHT
TZOFFSETFROM:-0500
TZOFFSETTO:-0400
TZNAME:EDT
DTSTART:20260308T070000
END:DAYLIGHT
BEGIN:STANDARD
TZOFFSETFROM:-0400
TZOFFSETTO:-0500
TZNAME:EST
DTSTART:20261101T060000
END:STANDARD
END:VTIMEZONE
BEGIN:VEVENT
DTSTART;VALUE=DATE:20261011
DTEND;VALUE=DATE:20261021
DTSTAMP:20260423T112929
CREATED:20251129T010533Z
LAST-MODIFIED:20251129T010638Z
UID:3250-1791676800-1792540799@multi-faithcalendar.org
SUMMARY:Navaratri (Hindu)
DESCRIPTION:The festival literally means “nine nights” in Sanskrit and occurs over ten days and nine nights.  It is celebrated differently in various parts of India with prayer\, elaborate pandals (platforms)\, fasting\, folk dances\, displays of dolls\, sharing of sweets\, and bonfires. The festival celebrates the triumph of good over evil and the restoration of righteousness\, accomplished through the victory of the Goddess Durga over the buffalo demon Mahishasura. \nMore information can be found here.
URL:https://multi-faithcalendar.org/events/navaratri-hindu-4/
CATEGORIES:2026,Hindu,October
END:VEVENT
BEGIN:VEVENT
DTSTART;VALUE=DATE:20261017
DTEND;VALUE=DATE:20261022
DTSTAMP:20260423T112929
CREATED:20251129T013803Z
LAST-MODIFIED:20251129T013803Z
UID:3268-1792195200-1792627199@multi-faithcalendar.org
SUMMARY:Durga Puja (Vedanta)
DESCRIPTION:Durga is one of the names of the Divine Mother  — the power of Brahman Absolute. \nLearn More: \nhttps://www.vedanet.com/the-meaning-of-durga/
URL:https://multi-faithcalendar.org/events/durga-puja-vedanta-6/
CATEGORIES:2026,Vedanta
END:VEVENT
END:VCALENDAR