BEGIN:VCALENDAR
VERSION:2.0
PRODID:-//Cincy MultiFaith Calendar - ECPv6.15.1.1//NONSGML v1.0//EN
CALSCALE:GREGORIAN
METHOD:PUBLISH
X-WR-CALNAME:Cincy MultiFaith Calendar
X-ORIGINAL-URL:https://multi-faithcalendar.org
X-WR-CALDESC:Events for Cincy MultiFaith Calendar
REFRESH-INTERVAL;VALUE=DURATION:PT1H
X-Robots-Tag:noindex
X-PUBLISHED-TTL:PT1H
BEGIN:VTIMEZONE
TZID:America/New_York
BEGIN:DAYLIGHT
TZOFFSETFROM:-0500
TZOFFSETTO:-0400
TZNAME:EDT
DTSTART:20260308T070000
END:DAYLIGHT
BEGIN:STANDARD
TZOFFSETFROM:-0400
TZOFFSETTO:-0500
TZNAME:EST
DTSTART:20261101T060000
END:STANDARD
END:VTIMEZONE
BEGIN:VEVENT
DTSTART;VALUE=DATE:20261026
DTEND;VALUE=DATE:20261027
DTSTAMP:20260423T113707
CREATED:20251203T001102Z
LAST-MODIFIED:20251203T001102Z
UID:3290-1792972800-1793059199@multi-faithcalendar.org
SUMMARY:Jashan-e Abangan (Zoroastrian)
DESCRIPTION:Jashan-e Abangan is a celebration ceremony\, a Jashan\, performed on Avan day of Avan month\, in\nhonor of Abangan or Avan\, a Pehlavi name derived from the ancient Avestan term “Ardvi Sura”. Avan\nmeans Water. Water\, a life-giving element for all creation in our world\, is highly revered by\nZoroastrians\, and we consider it our religious duty to keep the world’s waters clean and pure\, and never\ndo any such act that would defile the waters. Avan is associated with Khordad.
URL:https://multi-faithcalendar.org/events/jashan-e-abangan-zoroastrian-5/
CATEGORIES:2026,Zoroastrian
END:VEVENT
END:VCALENDAR