BEGIN:VCALENDAR
VERSION:2.0
PRODID:-//Cincy MultiFaith Calendar - ECPv6.15.1.1//NONSGML v1.0//EN
CALSCALE:GREGORIAN
METHOD:PUBLISH
X-WR-CALNAME:Cincy MultiFaith Calendar
X-ORIGINAL-URL:https://multi-faithcalendar.org
X-WR-CALDESC:Events for Cincy MultiFaith Calendar
REFRESH-INTERVAL;VALUE=DURATION:PT1H
X-Robots-Tag:noindex
X-PUBLISHED-TTL:PT1H
BEGIN:VTIMEZONE
TZID:America/New_York
BEGIN:DAYLIGHT
TZOFFSETFROM:-0500
TZOFFSETTO:-0400
TZNAME:EDT
DTSTART:20260308T070000
END:DAYLIGHT
BEGIN:STANDARD
TZOFFSETFROM:-0400
TZOFFSETTO:-0500
TZNAME:EST
DTSTART:20261101T060000
END:STANDARD
BEGIN:DAYLIGHT
TZOFFSETFROM:-0500
TZOFFSETTO:-0400
TZNAME:EDT
DTSTART:20270314T070000
END:DAYLIGHT
BEGIN:STANDARD
TZOFFSETFROM:-0400
TZOFFSETTO:-0500
TZNAME:EST
DTSTART:20271107T060000
END:STANDARD
END:VTIMEZONE
BEGIN:VEVENT
DTSTART;VALUE=DATE:20261221
DTEND;VALUE=DATE:20261222
DTSTAMP:20260423T141446
CREATED:20251203T003206Z
LAST-MODIFIED:20251203T003206Z
UID:3328-1797811200-1797897599@multi-faithcalendar.org
SUMMARY:Yalda (Zoroastrian)
DESCRIPTION:Yalda is a winter solstice celebration. Friends and family gather on this longest and darkest night of the year to eat and celebrate late into the night\, around a fire which burns all night long. Red colored fruits like pomegranates and watermelons consumed. The red color in these fruits is symbolic of the light of the early morning. \nMore Information
URL:https://multi-faithcalendar.org/events/yalda-zoroastrian-7/
CATEGORIES:2026,December,Zoroastrian
END:VEVENT
BEGIN:VEVENT
DTSTART;VALUE=DATE:20261231
DTEND;VALUE=DATE:20270106
DTSTAMP:20260423T141446
CREATED:20251030T223142Z
LAST-MODIFIED:20251030T223511Z
UID:3030-1798675200-1799193599@multi-faithcalendar.org
SUMMARY:Gahambar Maidyarem (Zoroastrianism)
DESCRIPTION:Maidyarem (literally: Winter) Gahambar is a seasonal feast celebrated on the winter solstice. It is considered a religious duty to participate in a communal jashan prayer ceremony; as well as\, fraternize and share a simple meal with fellow co-religionists from all walks of life\, rich and poor. \nMore Information
URL:https://multi-faithcalendar.org/events/gahambar-maidyarem-zoroastrianism-5/
CATEGORIES:2026,December,Zoroastrian
END:VEVENT
END:VCALENDAR