BEGIN:VCALENDAR
VERSION:2.0
PRODID:-//Cincy MultiFaith Calendar - ECPv6.15.1.1//NONSGML v1.0//EN
CALSCALE:GREGORIAN
METHOD:PUBLISH
X-ORIGINAL-URL:https://multi-faithcalendar.org
X-WR-CALDESC:Events for Cincy MultiFaith Calendar
REFRESH-INTERVAL;VALUE=DURATION:PT1H
X-Robots-Tag:noindex
X-PUBLISHED-TTL:PT1H
BEGIN:VTIMEZONE
TZID:America/New_York
BEGIN:DAYLIGHT
TZOFFSETFROM:-0500
TZOFFSETTO:-0400
TZNAME:EDT
DTSTART:20190310T070000
END:DAYLIGHT
BEGIN:STANDARD
TZOFFSETFROM:-0400
TZOFFSETTO:-0500
TZNAME:EST
DTSTART:20191103T060000
END:STANDARD
END:VTIMEZONE
BEGIN:VEVENT
DTSTART;VALUE=DATE:20191102
DTEND;VALUE=DATE:20191103
DTSTAMP:20260424T005625
CREATED:20190913T175904Z
LAST-MODIFIED:20190925T130518Z
UID:939-1572652800-1572739199@multi-faithcalendar.org
SUMMARY:All Souls Day (Catholic)
DESCRIPTION:Catholic Christian observance in memory of all the faithful who are deceased. In some Latin cultures\, this day is referred to as “The Day of the Dead”. \nMore Information
URL:https://multi-faithcalendar.org/events/all-souls-day-catholic-2/
CATEGORIES:2019,Catholic,November
END:VEVENT
BEGIN:VEVENT
DTSTART;VALUE=DATE:20191101
DTEND;VALUE=DATE:20191102
DTSTAMP:20260424T005625
CREATED:20190913T172753Z
LAST-MODIFIED:20190925T130408Z
UID:927-1572566400-1572652799@multi-faithcalendar.org
SUMMARY:All Saints Day
DESCRIPTION:Christian celebration of the lives of all the saints\, especially those not having a special day; Orthodox churches observe the day in mid-summer. \nMore Information
URL:https://multi-faithcalendar.org/events/all-saints-day/
CATEGORIES:2019,Christian,November
END:VEVENT
BEGIN:VEVENT
DTSTART;VALUE=DATE:20190913
DTEND;VALUE=DATE:20190914
DTSTAMP:20260424T005625
CREATED:20190913T173102Z
LAST-MODIFIED:20190917T174557Z
UID:930-1568332800-1568419199@multi-faithcalendar.org
SUMMARY:All Souls Day
DESCRIPTION:Catholic Christian observance in memory of all the faithful who are deceased. In some Latin cultures\, this day is known as “The Day of the Dead” \nMore Information
URL:https://multi-faithcalendar.org/events/all-souls-day/
CATEGORIES:2019,Catholic,November
END:VEVENT
END:VCALENDAR