BEGIN:VCALENDAR
VERSION:2.0
PRODID:-//Cincy MultiFaith Calendar - ECPv6.15.1.1//NONSGML v1.0//EN
CALSCALE:GREGORIAN
METHOD:PUBLISH
X-ORIGINAL-URL:https://multi-faithcalendar.org
X-WR-CALDESC:Events for Cincy MultiFaith Calendar
REFRESH-INTERVAL;VALUE=DURATION:PT1H
X-Robots-Tag:noindex
X-PUBLISHED-TTL:PT1H
BEGIN:VTIMEZONE
TZID:America/New_York
BEGIN:DAYLIGHT
TZOFFSETFROM:-0500
TZOFFSETTO:-0400
TZNAME:EDT
DTSTART:20190310T070000
END:DAYLIGHT
BEGIN:STANDARD
TZOFFSETFROM:-0400
TZOFFSETTO:-0500
TZNAME:EST
DTSTART:20191103T060000
END:STANDARD
END:VTIMEZONE
BEGIN:VEVENT
DTSTART;VALUE=DATE:20191027
DTEND;VALUE=DATE:20191028
DTSTAMP:20260424T180327
CREATED:20190912T205444Z
LAST-MODIFIED:20190912T205444Z
UID:880-1572134400-1572220799@multi-faithcalendar.org
SUMMARY:Diwali (Hindu)
DESCRIPTION:One of the most popular festivals of Hinduism\, Diwali symbolizes the spiritual “victory of light over darkness\, good over evil and knowledge over ignorance.” Light is a metaphor for knowledge and consciousness. During the celebration\, temples\, homes\, shops and office buildings are brightly illuminated. The preparations and observances typically last five days.
URL:https://multi-faithcalendar.org/events/diwali-hindu-2/
CATEGORIES:Jain,October
END:VEVENT
BEGIN:VEVENT
DTSTART;VALUE=DATE:20191021
DTEND;VALUE=DATE:20191023
DTSTAMP:20260424T180327
CREATED:20190912T205819Z
LAST-MODIFIED:20190912T205819Z
UID:882-1571616000-1571788799@multi-faithcalendar.org
SUMMARY:Simchat Torah (Jewish)
DESCRIPTION:Simchat Torah/ Shemini Atzeret marks the conclusion of the annual reading cycle of the Torah\, the Five Books of Moses that make up the Jewish Bible. Jews celebrate the Torah by dancing and singing\, followed by reading the last word of Deuteronomy and the first word of Genesis in one breath to represent the cyclical relationship between the Jewish People and Torah. Immediately follows Sukkot. \nMore Information
URL:https://multi-faithcalendar.org/events/simchat-torah-jewish/
CATEGORIES:Jewish,October
END:VEVENT
BEGIN:VEVENT
DTSTART;VALUE=DATE:20191013
DTEND;VALUE=DATE:20191021
DTSTAMP:20260424T180327
CREATED:20190912T204500Z
LAST-MODIFIED:20190912T204500Z
UID:877-1570924800-1571615999@multi-faithcalendar.org
SUMMARY:Sukkot (Jewish)
DESCRIPTION:Sukkot is a seven-day festival marking the fall harvest in ancient Israel. This holiday is also a time in which Jews commorate forty years of wantering in the desert after the Exodus from Egypt. Celebrated by the building of a sukkah (or temporary dwelling) outdoors. Work is traditionally prohibited on the first and second days. \nMore Information \nSome students may miss school the first and second day of the festival.
URL:https://multi-faithcalendar.org/events/sukkot-jewish-2/
CATEGORIES:Jewish,October
END:VEVENT
BEGIN:VEVENT
DTSTART;VALUE=DATE:20191008
DTEND;VALUE=DATE:20191009
DTSTAMP:20260424T180327
CREATED:20190912T222153Z
LAST-MODIFIED:20190912T222153Z
UID:902-1570492800-1570579199@multi-faithcalendar.org
SUMMARY:Dussehra (Hindu)
DESCRIPTION:Dussehra (Vijaya Dashami\, Dasara\, or Dashain) is a Hindu festival that celebrates the victory of good over evil. It is a gazetted holiday in India\, which is marked on the 10th day of the bright half (Shukla Paksha) of the month of Ashvin (Ashwayuja)\, according to the Hindu calendar \nMore Information
URL:https://multi-faithcalendar.org/events/dussehra-hindu-2/
CATEGORIES:2019,Hindu,October
END:VEVENT
BEGIN:VEVENT
DTSTART;VALUE=DATE:20191004
DTEND;VALUE=DATE:20191005
DTSTAMP:20260424T180327
CREATED:20190912T220348Z
LAST-MODIFIED:20190912T220348Z
UID:894-1570147200-1570233599@multi-faithcalendar.org
SUMMARY:St. Francis of Assisi (Catholic)
DESCRIPTION:Feast Day of St. Francis of Assisi who abandoned a life of luxury for a life devoted to Christianity after reportedly hearing the voice of God\, who commanded him to rebuild the Christian church of San Damiano.  His angry father disowned and disinherited him because Francis sold some goods from his father’s warehouse and used the proceeds to rebuild the church\, and Francis embraced his new life of poverty. He is the patron saint of animals and the environment.  It is Francis who originated the practice of commemorating the Birth of Christ with the nativity scene. \nMore Information
URL:https://multi-faithcalendar.org/events/st-francis-of-assisi-catholic-2/
CATEGORIES:2019,Catholic,October
END:VEVENT
BEGIN:VEVENT
DTSTART;VALUE=DATE:20190929
DTEND;VALUE=DATE:20191011
DTSTAMP:20260424T180327
CREATED:20190912T220658Z
LAST-MODIFIED:20190914T095628Z
UID:896-1569715200-1570751999@multi-faithcalendar.org
SUMMARY:Navratri (Hindu)
DESCRIPTION:The festival literally means “nine nights” and is celebrated differently in various parts of India with prayer\, elaborate pandals\, folk dances\, displays of dolls\, sharing of sweets and bonfires. It symbolizes the triumph of good over evil; for example\, it commemorates the victory of Goddess Durga over the buffalo demon Mahishasura and the restoration of righteousness. \nMore Information
URL:https://multi-faithcalendar.org/events/navratri-hindu-2/
CATEGORIES:2019,Hindu,October,September
END:VEVENT
END:VCALENDAR