BEGIN:VCALENDAR
VERSION:2.0
PRODID:-//Cincy MultiFaith Calendar - ECPv6.15.1.1//NONSGML v1.0//EN
CALSCALE:GREGORIAN
METHOD:PUBLISH
X-WR-CALNAME:Cincy MultiFaith Calendar
X-ORIGINAL-URL:https://multi-faithcalendar.org
X-WR-CALDESC:Events for Cincy MultiFaith Calendar
REFRESH-INTERVAL;VALUE=DURATION:PT1H
X-Robots-Tag:noindex
X-PUBLISHED-TTL:PT1H
BEGIN:VTIMEZONE
TZID:America/New_York
BEGIN:DAYLIGHT
TZOFFSETFROM:-0500
TZOFFSETTO:-0400
TZNAME:EDT
DTSTART:20260308T070000
END:DAYLIGHT
BEGIN:STANDARD
TZOFFSETFROM:-0400
TZOFFSETTO:-0500
TZNAME:EST
DTSTART:20261101T060000
END:STANDARD
END:VTIMEZONE
BEGIN:VEVENT
DTSTART;VALUE=DATE:20260429
DTEND;VALUE=DATE:20260501
DTSTAMP:20260424T051621
CREATED:20251105T000656Z
LAST-MODIFIED:20251105T000818Z
UID:3137-1777420800-1777593599@multi-faithcalendar.org
SUMMARY:9th Day of Festival of Ridvan -(The Bahá’í Faith)
DESCRIPTION:9th Day of Ridvan. There are three holy Days as part of the Festival\, the first day\, the ninth and the twelfth. The annual Baha’i Festival commemorates the 12 days when Baha’u’llah\, the founder of the Faith\, publicly proclaimed his mission as God’s messenger. \nHoliday Greeting: Happy Ridvan \nWork is to be suspended and children excused from school. \nhttps://en.wikipedia.org/wiki/Ridv%C3%A1n
URL:https://multi-faithcalendar.org/events/9th-day-of-festival-of-ridvan-the-bahai-faith-5/
CATEGORIES:2026,April,The Bahá’í Faith
END:VEVENT
END:VCALENDAR