BEGIN:VCALENDAR
VERSION:2.0
PRODID:-//Cincy MultiFaith Calendar - ECPv6.15.1.1//NONSGML v1.0//EN
CALSCALE:GREGORIAN
METHOD:PUBLISH
X-WR-CALNAME:Cincy MultiFaith Calendar
X-ORIGINAL-URL:https://multi-faithcalendar.org
X-WR-CALDESC:Events for Cincy MultiFaith Calendar
REFRESH-INTERVAL;VALUE=DURATION:PT1H
X-Robots-Tag:noindex
X-PUBLISHED-TTL:PT1H
BEGIN:VTIMEZONE
TZID:America/New_York
BEGIN:DAYLIGHT
TZOFFSETFROM:-0500
TZOFFSETTO:-0400
TZNAME:EDT
DTSTART:20250309T070000
END:DAYLIGHT
BEGIN:STANDARD
TZOFFSETFROM:-0400
TZOFFSETTO:-0500
TZNAME:EST
DTSTART:20251102T060000
END:STANDARD
END:VTIMEZONE
BEGIN:VEVENT
DTSTART;VALUE=DATE:20251226
DTEND;VALUE=DATE:20251227
DTSTAMP:20260423T210607
CREATED:20241117T193718Z
LAST-MODIFIED:20241117T193718Z
UID:2842-1766707200-1766793599@multi-faithcalendar.org
SUMMARY:Zarathosht-no-Diso (Parsi Zoroastrian)
DESCRIPTION:Death anniversary of Zarathushtra (Zoroaster) the founder of Zoroastrianism. It is a day of special prayers\, with lectures and discussions held on the life and works of the prophet. There is no mourning in the Zoroastrian religion\, only remembrance and prayers for Farohars (souls) of the departed. \nMore Information
URL:https://multi-faithcalendar.org/events/zarathosht-no-diso-parsi-zoroastrian-5/
CATEGORIES:2025,December,Parsi Zoroastrian
END:VEVENT
END:VCALENDAR