BEGIN:VCALENDAR
VERSION:2.0
PRODID:-//Cincy MultiFaith Calendar - ECPv6.15.1.1//NONSGML v1.0//EN
CALSCALE:GREGORIAN
METHOD:PUBLISH
X-ORIGINAL-URL:https://multi-faithcalendar.org
X-WR-CALDESC:Events for Cincy MultiFaith Calendar
REFRESH-INTERVAL;VALUE=DURATION:PT1H
X-Robots-Tag:noindex
X-PUBLISHED-TTL:PT1H
BEGIN:VTIMEZONE
TZID:America/New_York
BEGIN:DAYLIGHT
TZOFFSETFROM:-0500
TZOFFSETTO:-0400
TZNAME:EDT
DTSTART:20260308T070000
END:DAYLIGHT
BEGIN:STANDARD
TZOFFSETFROM:-0400
TZOFFSETTO:-0500
TZNAME:EST
DTSTART:20261101T060000
END:STANDARD
END:VTIMEZONE
BEGIN:VEVENT
DTSTART;VALUE=DATE:20261204
DTEND;VALUE=DATE:20261213
DTSTAMP:20260423T141029
CREATED:20251030T220118Z
LAST-MODIFIED:20251030T220118Z
UID:3026-1796342400-1797119999@multi-faithcalendar.org
SUMMARY:Hanukkah (Jewish)
DESCRIPTION:Hanukkah\, also known as Hanukah\, Chanukah\, and Chanukkah can be spelled many different ways in English. It is an eight-day celebration known as the Festival of Lights marked by the lighting of candles using a special candle holder called a menorah or chanukiah. This holiday is where Jews celebrate their victory over a tyrant Greco-Syrian king and the rededication of the Temple in Jerusalem. As the story goes\, a small quantity of oil to light the Temple’s menorah miraculously lasted eight days. Traditions include a game involving spinning dreidels (tops)\, eating potato latkes (pancakes) and other oily foods\, and gift giving. \nMore Information \nHoliday Greeting: Happy Hanukkah! \nCommonly observed by synagogue attendance\, community or family gatherings.
URL:https://multi-faithcalendar.org/events/hanukkah-jewish-7/
CATEGORIES:2026,December,Jewish
END:VEVENT
BEGIN:VEVENT
DTSTART;VALUE=DATE:20261204
DTEND;VALUE=DATE:20261213
DTSTAMP:20260423T141029
CREATED:20251203T002855Z
LAST-MODIFIED:20251203T002855Z
UID:3322-1796342400-1797119999@multi-faithcalendar.org
SUMMARY:Hanukkah (Jewish)
DESCRIPTION:Hanukkah\, also known as Hanukah\, Chanukah\, and Chanukkah can be spelled many different ways in English. It is an eight-day celebration known as the Festival of Lights marked by the lighting of candles using a special candle holder called a menorah or chanukiah. This holiday is where Jews celebrate their victory over a tyrant Greco-Syrian king and the rededication of the Temple in Jerusalem. As the story goes\, a small quantity of oil to light the Temple’s menorah miraculously lasted eight days. Traditions include a game involving spinning dreidels (tops)\, eating potato latkes (pancakes) and other oily foods\, and gift giving. \nMore Information \nHoliday Greeting: Happy Hanukkah! \nCommonly observed by synagogue attendance\, community or family gatherings.
URL:https://multi-faithcalendar.org/events/hanukkah-jewish-8/
CATEGORIES:2026,December,Jewish
END:VEVENT
BEGIN:VEVENT
DTSTART;VALUE=DATE:20261208
DTEND;VALUE=DATE:20261209
DTSTAMP:20260423T141029
CREATED:20251203T002637Z
LAST-MODIFIED:20251203T002637Z
UID:3316-1796688000-1796774399@multi-faithcalendar.org
SUMMARY:Immaculate Conception of the Blessed Virgin Mary (Catholic)
DESCRIPTION:Today\, Catholics celebrate the day that Mary\, the mother of Jesus\, was conceived by her mother Anna.  Catholics believe that Mary was conceived without original sin\, and so throughout her life her soul was immaculate\, or without the stain of sin. \nMore information can be found here.
URL:https://multi-faithcalendar.org/events/immaculate-conception-of-the-blessed-virgin-mary-catholic-8/
CATEGORIES:2026,Catholic,December
END:VEVENT
BEGIN:VEVENT
DTSTART;VALUE=DATE:20261212
DTEND;VALUE=DATE:20261213
DTSTAMP:20260423T141029
CREATED:20251203T002808Z
LAST-MODIFIED:20251203T002808Z
UID:3320-1797033600-1797119999@multi-faithcalendar.org
SUMMARY:Feast of Our Lady of Guadalupe (Hispanic / Catholic)
DESCRIPTION:This is a popular feast day in the Americas\, especially among Hispanic Catholics\, and celebrates Mary\, Jesus mother\, who is the patron saint of the Americas. This feast celebrates when\, on the 9th and 12th of December 1531\, in Mexico City\, the Virgin Mary appeared to Juan Diego. \nMore information can be found here.
URL:https://multi-faithcalendar.org/events/feast-of-our-lady-of-guadalupe-hispanic-catholic-6/
CATEGORIES:2026,Catholic,December,Hispanic
END:VEVENT
BEGIN:VEVENT
DTSTART;VALUE=DATE:20261221
DTEND;VALUE=DATE:20261222
DTSTAMP:20260423T141029
CREATED:20251203T003014Z
LAST-MODIFIED:20251203T003014Z
UID:3324-1797811200-1797897599@multi-faithcalendar.org
SUMMARY:Martyrdom of the Elder Sahibzadas (Princes) at the Battle of Chamkaur (Sikh)
DESCRIPTION:The traditional title of this day is Shaheedi-Vaddey Sahibzaadey.  The word “Sahibzaada” means “son” in Punjabi\, and these two final events of the year refer to the martyrdom of all four of Guru Gobind Singh’s sons. All four of his sons gave up their lives fighting tyranny and oppression like their father\, Guru Gobind Singh\, and grandfather\, Guru Tegh Bahadur\, before them. The elder two sons\, Baba Ajit Singh and Baba Jujhar Singh\, died fighting in the Battle of Chamkaur at the age of 18 and 14 years old in 1705. The martyrdom of Guru Gobind Singh’s all four sons is an integral part of the Sikh history and it is commemorated with great energy at the end of the year. \nMore Information \nStudents and/or Co-Workers may visit their local Gurdwara at some point during the day
URL:https://multi-faithcalendar.org/events/martyrdom-of-the-elder-sahibzadas-princes-at-the-battle-of-chamkaur-sikh-6/
CATEGORIES:2026,December,Sikh
END:VEVENT
BEGIN:VEVENT
DTSTART;VALUE=DATE:20261226
DTEND;VALUE=DATE:20261227
DTSTAMP:20260423T141029
CREATED:20251203T003322Z
LAST-MODIFIED:20251203T003322Z
UID:3332-1798243200-1798329599@multi-faithcalendar.org
SUMMARY:Zarathosht-no-Diso (Parsi Zoroastrian)
DESCRIPTION:Death anniversary of Zarathushtra (Zoroaster) the founder of Zoroastrianism. It is a day of special prayers\, with lectures and discussions held on the life and works of the prophet. There is no mourning in the Zoroastrian religion\, only remembrance and prayers for Farohars (souls) of the departed. \nMore Information
URL:https://multi-faithcalendar.org/events/zarathosht-no-diso-parsi-zoroastrian-6/
CATEGORIES:2026,December,Parsi Zoroastrian
END:VEVENT
END:VCALENDAR