BEGIN:VCALENDAR
VERSION:2.0
PRODID:-//Cincy MultiFaith Calendar - ECPv6.15.1.1//NONSGML v1.0//EN
CALSCALE:GREGORIAN
METHOD:PUBLISH
X-WR-CALNAME:Cincy MultiFaith Calendar
X-ORIGINAL-URL:https://multi-faithcalendar.org
X-WR-CALDESC:Events for Cincy MultiFaith Calendar
REFRESH-INTERVAL;VALUE=DURATION:PT1H
X-Robots-Tag:noindex
X-PUBLISHED-TTL:PT1H
BEGIN:VTIMEZONE
TZID:America/New_York
BEGIN:DAYLIGHT
TZOFFSETFROM:-0500
TZOFFSETTO:-0400
TZNAME:EDT
DTSTART:20200308T070000
END:DAYLIGHT
BEGIN:STANDARD
TZOFFSETFROM:-0400
TZOFFSETTO:-0500
TZNAME:EST
DTSTART:20201101T060000
END:STANDARD
BEGIN:DAYLIGHT
TZOFFSETFROM:-0500
TZOFFSETTO:-0400
TZNAME:EDT
DTSTART:20210314T070000
END:DAYLIGHT
BEGIN:STANDARD
TZOFFSETFROM:-0400
TZOFFSETTO:-0500
TZNAME:EST
DTSTART:20211107T060000
END:STANDARD
BEGIN:DAYLIGHT
TZOFFSETFROM:-0500
TZOFFSETTO:-0400
TZNAME:EDT
DTSTART:20220313T070000
END:DAYLIGHT
BEGIN:STANDARD
TZOFFSETFROM:-0400
TZOFFSETTO:-0500
TZNAME:EST
DTSTART:20221106T060000
END:STANDARD
BEGIN:DAYLIGHT
TZOFFSETFROM:-0500
TZOFFSETTO:-0400
TZNAME:EDT
DTSTART:20230312T070000
END:DAYLIGHT
BEGIN:STANDARD
TZOFFSETFROM:-0400
TZOFFSETTO:-0500
TZNAME:EST
DTSTART:20231105T060000
END:STANDARD
END:VTIMEZONE
BEGIN:VEVENT
DTSTART;VALUE=DATE:20231226
DTEND;VALUE=DATE:20231227
DTSTAMP:20260423T171741
CREATED:20230925T114049Z
LAST-MODIFIED:20230925T114241Z
UID:2366-1703548800-1703635199@multi-faithcalendar.org
SUMMARY:Zarathosht-no-Diso (Parsi Zoroastrian)
DESCRIPTION:Death anniversary of Zarathushtra (Zoroaster) the founder of Zoroastrianism. It is a day of special prayers\, with lectures and discussions held on the life and works of the prophet. There is no mourning in the Zoroastrian religion\, only remembrance and prayers for Farohars (souls) of the departed. \nMore Information
URL:https://multi-faithcalendar.org/events/__trashed/
CATEGORIES:2023,December,Parsi Zoroastrian
END:VEVENT
BEGIN:VEVENT
DTSTART;VALUE=DATE:20231221
DTEND;VALUE=DATE:20231222
DTSTAMP:20260423T171741
CREATED:20230223T105445Z
LAST-MODIFIED:20230223T105445Z
UID:2342-1703116800-1703203199@multi-faithcalendar.org
SUMMARY:Martyrdom of the Elder Sahibzadas (Princes) at the Battle of Chamkaur (Sikh)
DESCRIPTION:The traditional title of this day is Shaheedi-Vaddey Sahibzaadey.  The word “Sahibzaada” means “son” in Punjabi\, and these two final events of the year refer to the martyrdom of all four of Guru Gobind Singh’s sons. All four of his sons gave up their lives fighting tyranny and oppression like their father\, Guru Gobind Singh\, and grandfather\, Guru Tegh Bahadur\, before them. The elder two sons\, Baba Ajit Singh and Baba Jujhar Singh\, died fighting in the Battle of Chamkaur at the age of 18 and 14 years old in 1705. The martyrdom of Guru Gobind Singh’s all four sons is an integral part of the Sikh history and it is commemorated with great energy at the end of the year. \nMore Information \nStudents and/or Co-Workers may visit their local Gurdwara at some point during the day
URL:https://multi-faithcalendar.org/events/martyrdom-of-the-elder-sahibzadas-princes-at-the-battle-of-chamkaur-sikh-3/
CATEGORIES:2023,December,Sikh
END:VEVENT
BEGIN:VEVENT
DTSTART;VALUE=DATE:20231212
DTEND;VALUE=DATE:20231213
DTSTAMP:20260423T171741
CREATED:20230925T112614Z
LAST-MODIFIED:20230925T112614Z
UID:2356-1702339200-1702425599@multi-faithcalendar.org
SUMMARY:Feast of Our Lady of Guadalupe (Hispanic / Catholic)
DESCRIPTION:This is a popular feast day in the Americas\, especially among Hispanic Catholics\, and celebrates Mary\, Jesus mother\, who is the patron saint of the Americas. This feast celebrates when\, on the 9th and 12th of December 1531\, in Mexico City\, the Virgin Mary appeared to Juan Diego. \nMore information can be found here.
URL:https://multi-faithcalendar.org/events/feast-of-our-lady-of-guadalupe-hispanic-catholic-3/
CATEGORIES:2023,Catholic,December,Hispanic
END:VEVENT
BEGIN:VEVENT
DTSTART;VALUE=DATE:20231208
DTEND;VALUE=DATE:20231209
DTSTAMP:20260423T171741
CREATED:20230925T112400Z
LAST-MODIFIED:20230925T112400Z
UID:2352-1701993600-1702079999@multi-faithcalendar.org
SUMMARY:Immaculate Conception of the Blessed Virgin Mary (Catholic)
DESCRIPTION:Today\, Catholics celebrate the day that Mary\, the mother of Jesus\, was conceived by her mother Anna.  Catholics believe that Mary was conceived without original sin\, and so throughout her life her soul was immaculate\, or without the stain of sin. \nMore information can be found here.
URL:https://multi-faithcalendar.org/events/immaculate-conception-of-the-blessed-virgin-mary-catholic-5/
CATEGORIES:2023,Catholic,December
END:VEVENT
BEGIN:VEVENT
DTSTART;VALUE=DATE:20231207
DTEND;VALUE=DATE:20231216
DTSTAMP:20260423T171741
CREATED:20230925T112713Z
LAST-MODIFIED:20230925T112713Z
UID:2358-1701907200-1702684799@multi-faithcalendar.org
SUMMARY:Hanukkah (Jewish)
DESCRIPTION:Hanukkah\, also known as Hanukah\, Chanukah\, and Chanukkah can be spelled many different ways in English. It is an eight-day celebration known as the Festival of Lights marked by the lighting of candles using a special candle holder called a menorah or chanukiah. This holiday is where Jews celebrate their victory over a tyrant Greco-Syrian king and the rededication of the Temple in Jerusalem. As the story goes\, a small quantity of oil to light the Temple’s menorah miraculously lasted eight days. Traditions include a game involving spinning dreidels (tops)\, eating potato latkes (pancakes) and other oily foods\, and gift giving. \nMore Information \nHoliday Greeting: Happy Hanukkah! \nCommonly observed by synagogue attendance\, community or family gatherings.
URL:https://multi-faithcalendar.org/events/hanukkah-jewish-4/
CATEGORIES:2023,December,Jewish
END:VEVENT
BEGIN:VEVENT
DTSTART;VALUE=DATE:20221221
DTEND;VALUE=DATE:20221222
DTSTAMP:20260423T171741
CREATED:20211205T152022Z
LAST-MODIFIED:20211205T152022Z
UID:1947-1671580800-1671667199@multi-faithcalendar.org
SUMMARY:Martyrdom of the Elder Sahibzadas (Princes) at the Battle of Chamkaur (Sikh)
DESCRIPTION:The traditional title of this day is Shaheedi-Vaddey Sahibzaadey.  The word “Sahibzaada” means “son” in Punjabi\, and these two final events of the year refer to the martyrdom of all four of Guru Gobind Singh’s sons. All four of his sons gave up their lives fighting tyranny and oppression like their father\, Guru Gobind Singh\, and grandfather\, Guru Tegh Bahadur\, before them. The elder two sons\, Baba Ajit Singh and Baba Jujhar Singh\, died fighting in the Battle of Chamkaur at the age of 18 and 14 years old in 1705. The martyrdom of Guru Gobind Singh’s all four sons is an integral part of the Sikh history and it is commemorated with great energy at the end of the year. \nMore Information \nStudents and/or Co-Workers may visit their local Gurdwara at some point during the day
URL:https://multi-faithcalendar.org/events/martyrdom-of-the-elder-sahibzadas-princes-at-the-battle-of-chamkaur-sikh-2/
CATEGORIES:2022,December,Sikh
END:VEVENT
BEGIN:VEVENT
DTSTART;VALUE=DATE:20221218
DTEND;VALUE=DATE:20221227
DTSTAMP:20260423T171741
CREATED:20211205T150743Z
LAST-MODIFIED:20211205T150743Z
UID:1941-1671321600-1672099199@multi-faithcalendar.org
SUMMARY:Hanukkah (Jewish)
DESCRIPTION:Hanukkah\, also known as Hanukah\, Chanukah\, and Chanukkah can be spelled many different ways in English. It is an eight-day celebration known as the Festival of Lights marked by the lighting of candles using a special candle holder called a menorah or chanukiah. This holiday is where Jews celebrate their victory over a tyrant Greco-Syrian king and the rededication of the Temple in Jerusalem. As the story goes\, a small quantity of oil to light the Temple’s menorah miraculously lasted eight days. Traditions include a game involving spinning dreidels (tops)\, eating potato latkes (pancakes) and other oily foods\, and gift giving. \nMore Information \nHoliday Greeting: Happy Hanukkah! \nCommonly observed by synagogue attendance\, community or family gatherings.
URL:https://multi-faithcalendar.org/events/hanukkah-jewish-3/
CATEGORIES:2022,December,Jewish
END:VEVENT
BEGIN:VEVENT
DTSTART;VALUE=DATE:20221212
DTEND;VALUE=DATE:20221213
DTSTAMP:20260423T171741
CREATED:20211205T150553Z
LAST-MODIFIED:20211205T150553Z
UID:1945-1670803200-1670889599@multi-faithcalendar.org
SUMMARY:Feast of Our Lady of Guadalupe (Hispanic / Catholic)
DESCRIPTION:This is a popular feast day in the Americas\, especially among Hispanic Catholics\, and celebrates Mary\, Jesus mother\, who is the patron saint of the Americas. This feast celebrates when\, on the 9th and 12th of December 1531\, in Mexico City\, the Virgin Mary appeared to Juan Diego. \nMore information can be found here.
URL:https://multi-faithcalendar.org/events/feast-of-our-lady-of-guadalupe-hispanic-catholic-2/
CATEGORIES:2022,Catholic,December,Hispanic
END:VEVENT
BEGIN:VEVENT
DTSTART;VALUE=DATE:20221208
DTEND;VALUE=DATE:20221209
DTSTAMP:20260423T171741
CREATED:20211205T150515Z
LAST-MODIFIED:20211205T150515Z
UID:1943-1670457600-1670543999@multi-faithcalendar.org
SUMMARY:Immaculate Conception of the Blessed Virgin Mary (Catholic)
DESCRIPTION:Today\, Catholics celebrate the day that Mary\, the mother of Jesus\, was conceived by her mother Anna.  Catholics believe that Mary was conceived without original sin\, and so throughout her life her soul was immaculate\, or without the stain of sin. \nMore information can be found here.
URL:https://multi-faithcalendar.org/events/immaculate-conception-of-the-blessed-virgin-mary-catholic-4/
CATEGORIES:2022,Catholic,December
END:VEVENT
BEGIN:VEVENT
DTSTART;VALUE=DATE:20211221
DTEND;VALUE=DATE:20211222
DTSTAMP:20260423T171741
CREATED:20210106T192354Z
LAST-MODIFIED:20210119T201105Z
UID:1232-1640044800-1640131199@multi-faithcalendar.org
SUMMARY:Martyrdom of the Elder Sahibzadas (Princes) at the Battle of Chamkaur (Sikh)
DESCRIPTION:The traditional title of this day is Shaheedi-Vaddey Sahibzaadey.  The word “Sahibzaada” means “son” in Punjabi\, and these two final events of the year refer to the martyrdom of all four of Guru Gobind Singh’s sons. All four of his sons gave up their lives fighting tyranny and oppression like their father\, Guru Gobind Singh\, and grandfather\, Guru Tegh Bahadur\, before them. The elder two sons\, Baba Ajit Singh and Baba Jujhar Singh\, died fighting in the Battle of Chamkaur at the age of 18 and 14 years old in 1705. The martyrdom of Guru Gobind Singh’s all four sons is an integral part of the Sikh history and it is commemorated with great energy at the end of the year. \nMore Information \nStudents and/or Co-Workers may visit their local Gurdwara at some point during the day
URL:https://multi-faithcalendar.org/events/martyrdom-of-the-elder-sahibzadas-princes-at-the-battle-of-chamkaur-sikh/
CATEGORIES:2021,December,Sikh
END:VEVENT
BEGIN:VEVENT
DTSTART;VALUE=DATE:20211212
DTEND;VALUE=DATE:20211213
DTSTAMP:20260423T171741
CREATED:20210111T185757Z
LAST-MODIFIED:20210204T210800Z
UID:1404-1639267200-1639353599@multi-faithcalendar.org
SUMMARY:Feast of Our Lady of Guadalupe (Hispanic / Catholic)
DESCRIPTION:This is a popular feast day in the Americas\, especially among Hispanic Catholics\, and celebrates Mary\, Jesus mother\, who is the patron saint of the Americas. This feast celebrates when\, on the 9th and 12th of December 1531\, in Mexico City\, the Virgin Mary appeared to Juan Diego. \nMore information can be found here.
URL:https://multi-faithcalendar.org/events/feast-of-our-lady-of-guadalupe-hispanic-catholic/
CATEGORIES:2021,Catholic,December,Hispanic
END:VEVENT
BEGIN:VEVENT
DTSTART;VALUE=DATE:20211208
DTEND;VALUE=DATE:20211209
DTSTAMP:20260423T171741
CREATED:20210111T185455Z
LAST-MODIFIED:20210204T210005Z
UID:1402-1638921600-1639007999@multi-faithcalendar.org
SUMMARY:Immaculate Conception of the Blessed Virgin Mary (Catholic)
DESCRIPTION:Today\, Catholics celebrate the day that Mary\, the mother of Jesus\, was conceived by her mother Anna.  Catholics believe that Mary was conceived without original sin\, and so throughout her life her soul was immaculate\, or without the stain of sin. \nMore information can be found here.
URL:https://multi-faithcalendar.org/events/immaculate-conception-of-the-blessed-virgin-mary-catholic-3/
CATEGORIES:2021,Catholic,December
END:VEVENT
BEGIN:VEVENT
DTSTART;VALUE=DATE:20211129
DTEND;VALUE=DATE:20211207
DTSTAMP:20260423T171741
CREATED:20190724T145819Z
LAST-MODIFIED:20210115T182119Z
UID:381-1638144000-1638835199@multi-faithcalendar.org
SUMMARY:Hanukkah (Jewish)
DESCRIPTION:Hanukkah\, also known as Hanukah\, Chanukah\, and Chanukkah can be spelled many different ways in English. It is an eight-day celebration known as the Festival of Lights marked by the lighting of candles using a special candle holder called a menorah or chanukiah. This holiday is where Jews celebrate their victory over a tyrant Greco-Syrian king and the rededication of the Temple in Jerusalem. As the story goes\, a small quantity of oil to light the Temple’s menorah miraculously lasted eight days. Traditions include a game involving spinning dreidels (tops)\, eating potato latkes (pancakes) and other oily foods\, and gift giving. \nMore Information \nHoliday Greeting: Happy Hanukkah! \nCommonly observed by synagogue attendance\, community or family gatherings.
URL:https://multi-faithcalendar.org/events/hanukkah-jewish/
CATEGORIES:2021,December,Jewish
END:VEVENT
BEGIN:VEVENT
DTSTART;VALUE=DATE:20201231
DTEND;VALUE=DATE:20210105
DTSTAMP:20260423T171741
CREATED:20190724T150653Z
LAST-MODIFIED:20190809T181407Z
UID:395-1609372800-1609804799@multi-faithcalendar.org
SUMMARY:Maidyarem Gahambar (Zoroastrian)
DESCRIPTION:Maidyarem (literally: Winter) Gahambar is a seasonal feast celebrated on the winter solstice.  It is considered a religious duty to participate in a communal jashan prayer ceremony; as well as\, fraternize and share a simple meal with fellow co-religionists from all walks of life\, rich and poor. \nMore Information
URL:https://multi-faithcalendar.org/events/maidyarem-gahambar-zoroastrian/
CATEGORIES:2020,December,Zoroastrian
END:VEVENT
BEGIN:VEVENT
DTSTART;VALUE=DATE:20201226
DTEND;VALUE=DATE:20201227
DTSTAMP:20260423T171741
CREATED:20190724T150530Z
LAST-MODIFIED:20190913T145808Z
UID:393-1608940800-1609027199@multi-faithcalendar.org
SUMMARY:Shaheedi - Chhotey Sahibzaadey (Sikh)
DESCRIPTION:“The younger of the four Sahibzaadey\, Baba Zorwar Singh and Baba Fateh Singh\, were martyred together at the young age of 6 and 9 years old by the Mughals in Sirhind in 1705. They were captured with their grandmother\, Mata Gujri\, and were immediately imprisoned in the freezing temperatures of December. They rejected all bribes by the Mughals and instead chose to remain steadfast in their faith even if it led to being entombed alive. They did not waiver and choose the easy option of living a lavish life upon conversion. Their lives serve as a reminder that age has no bearing in living a principled life.” \nMore Information \nStudents and/or Co-Workers may visit their local Gurdwara at some point during the day
URL:https://multi-faithcalendar.org/events/shaheedi-chhotey-sahibzaadey/
CATEGORIES:2020,December,Sikh
END:VEVENT
BEGIN:VEVENT
DTSTART;VALUE=DATE:20201226
DTEND;VALUE=DATE:20201227
DTSTAMP:20260423T171741
CREATED:20190724T150412Z
LAST-MODIFIED:20190809T181316Z
UID:391-1608940800-1609027199@multi-faithcalendar.org
SUMMARY:Zarathosht-no-Diso (Zoroastrian)
DESCRIPTION:Death anniversay of Zarathushtra (Zoroaster) the founder of Zoroastrianism. It is a day of special prayers\, with lectures and discussions held on the life and works of the prophet. There is no mourning in the Zoroastrian religion\, only remembrance and prayers for Farohars (souls) of the departed.
URL:https://multi-faithcalendar.org/events/zarathosht-no-diso-zoroastrian/
CATEGORIES:2020,December,Zoroastrian
END:VEVENT
BEGIN:VEVENT
DTSTART;VALUE=DATE:20201225
DTEND;VALUE=DATE:20201226
DTSTAMP:20260423T171741
CREATED:20190724T150336Z
LAST-MODIFIED:20190815T125818Z
UID:389-1608854400-1608940799@multi-faithcalendar.org
SUMMARY:Christmas (Christian)
DESCRIPTION:Birth of Jesus Christ.  Christians believe that He is the Son of God\, the Messiah\, and Savior of the world. \nMore Information \nHoliday Greeting: Merry Christmas
URL:https://multi-faithcalendar.org/events/christmas-christian/
CATEGORIES:2020,Christian,December
END:VEVENT
BEGIN:VEVENT
DTSTART;VALUE=DATE:20201221
DTEND;VALUE=DATE:20201222
DTSTAMP:20260423T171741
CREATED:20190724T150152Z
LAST-MODIFIED:20190724T150152Z
UID:387-1608508800-1608595199@multi-faithcalendar.org
SUMMARY:Yalda (Zoroastrian)
DESCRIPTION:Yalda is a winter solstice celebration. Friends and family gather on this longest and darkest night of the year to eat and celebrate late into the night\, around a fire which burns all night long.  Red colored fruits like pomegranates and watermelons consumed. The red color in these fruits is symbolic of the light of the early morning. \nMore Information
URL:https://multi-faithcalendar.org/events/yalda-zoroastrian/
CATEGORIES:2020,December,Zoroastrian
END:VEVENT
BEGIN:VEVENT
DTSTART;VALUE=DATE:20201221
DTEND;VALUE=DATE:20201222
DTSTAMP:20260423T171741
CREATED:20190724T150049Z
LAST-MODIFIED:20190913T145738Z
UID:385-1608508800-1608595199@multi-faithcalendar.org
SUMMARY:Shaheedi - Vaddey Sahibzaadey (Sikh)
DESCRIPTION:The word “Sahibzaada” means “son” in Punjabi and these two final events of the year refer to the martyrdom of all four of Guru Gobind Singh’s sons. All four of his sons gave up their lives fighting tyranny and oppression like their father\, Guru Gobind Singh\, and grandfather\, Guru Tegh Bahadur\, before them. The elder two sons\, Baba Ajit Singh and Baba Jujhar Singh\, died fighting in the Battle of Chamkaur at the age of 18 and 14 years old in 1705. The martyrdom of Guru Gobind Singh’s all four sons is an integral part of the Sikh history and it is commemorated with great energy at the end of the year. \nMore Information \nStudents and/or Co-Workers may visit their local Gurdwara at some point during the day
URL:https://multi-faithcalendar.org/events/shaheedi-vaddey-sahibzaadey/
CATEGORIES:2020,December,Sikh
END:VEVENT
BEGIN:VEVENT
DTSTART;VALUE=DATE:20201212
DTEND;VALUE=DATE:20201213
DTSTAMP:20260423T171741
CREATED:20190724T145935Z
LAST-MODIFIED:20190815T125728Z
UID:383-1607731200-1607817599@multi-faithcalendar.org
SUMMARY:Our Lady of Guadalupe (Catholic)
DESCRIPTION:A popular Catholic feast that celebrates the belief that a man\, Juan Diego\, encountered the Virgin  Mary\, Mexico’s patron saint\, in Mexico City on December 9 and 12\, 1531. \nMore Information
URL:https://multi-faithcalendar.org/events/our-lady-of-guadalupe-catholic/
CATEGORIES:2020,Catholic,December
END:VEVENT
BEGIN:VEVENT
DTSTART;VALUE=DATE:20201208
DTEND;VALUE=DATE:20201209
DTSTAMP:20260423T171741
CREATED:20190724T145553Z
LAST-MODIFIED:20190724T145553Z
UID:379-1607385600-1607471999@multi-faithcalendar.org
SUMMARY:Immaculate Conception of the Blessed Virgin Mary (Catholic)
DESCRIPTION:Immaculate means without stain.  Mary was conceived without original sin or its stain. \nMore Information
URL:https://multi-faithcalendar.org/events/immaculate-conception-of-the-blessed-virgin-mary-catholic/
CATEGORIES:2020,Catholic,December
END:VEVENT
END:VCALENDAR