BEGIN:VCALENDAR
VERSION:2.0
PRODID:-//Cincy MultiFaith Calendar - ECPv6.15.1.1//NONSGML v1.0//EN
CALSCALE:GREGORIAN
METHOD:PUBLISH
X-ORIGINAL-URL:https://multi-faithcalendar.org
X-WR-CALDESC:Events for Cincy MultiFaith Calendar
REFRESH-INTERVAL;VALUE=DURATION:PT1H
X-Robots-Tag:noindex
X-PUBLISHED-TTL:PT1H
BEGIN:VTIMEZONE
TZID:America/New_York
BEGIN:DAYLIGHT
TZOFFSETFROM:-0500
TZOFFSETTO:-0400
TZNAME:EDT
DTSTART:20200308T070000
END:DAYLIGHT
BEGIN:STANDARD
TZOFFSETFROM:-0400
TZOFFSETTO:-0500
TZNAME:EST
DTSTART:20201101T060000
END:STANDARD
BEGIN:DAYLIGHT
TZOFFSETFROM:-0500
TZOFFSETTO:-0400
TZNAME:EDT
DTSTART:20210314T070000
END:DAYLIGHT
BEGIN:STANDARD
TZOFFSETFROM:-0400
TZOFFSETTO:-0500
TZNAME:EST
DTSTART:20211107T060000
END:STANDARD
BEGIN:DAYLIGHT
TZOFFSETFROM:-0500
TZOFFSETTO:-0400
TZNAME:EDT
DTSTART:20220313T070000
END:DAYLIGHT
BEGIN:STANDARD
TZOFFSETFROM:-0400
TZOFFSETTO:-0500
TZNAME:EST
DTSTART:20221106T060000
END:STANDARD
END:VTIMEZONE
BEGIN:VEVENT
DTSTART;VALUE=DATE:20220710
DTEND;VALUE=DATE:20220711
DTSTAMP:20260423T183413
CREATED:20190724T135147Z
LAST-MODIFIED:20211114T163422Z
UID:293-1657411200-1657497599@multi-faithcalendar.org
SUMMARY:Martyrdom of the Bab (The Bahá’í Faith)
DESCRIPTION:Commemorates the anniversary of the execution of the Bab (Siyyid Ali-Muhammad)\, the Herald of the Baha’i Faith by firing squad on July 9\, 1850 in Tabriz Iran \nWork is to be suspended and children excused from school. \nMore information: \nhttps://www.bahai.us/commemoration-of-the-martyrdom-of-the-bab/
URL:https://multi-faithcalendar.org/events/martyrdom-of-the-bab-the-bahai-faith/
CATEGORIES:2022,July,The Bahá’í Faith
END:VEVENT
BEGIN:VEVENT
DTSTART;VALUE=DATE:20220701
DTEND;VALUE=DATE:20220702
DTSTAMP:20260423T183413
CREATED:20190724T134743Z
LAST-MODIFIED:20211114T160952Z
UID:289-1656633600-1656719999@multi-faithcalendar.org
SUMMARY:Jashan-e Tiragan (Zoroastrian)
DESCRIPTION:A mid-summer festival honoring water and rain. It is celebrated by splashing water on friends and family. It is also associated with the legend of the arrow. \nMore Information
URL:https://multi-faithcalendar.org/events/jashan-e-tiragan-zoroastrian/
CATEGORIES:2022,July,Zoroastrian
END:VEVENT
BEGIN:VEVENT
DTSTART;VALUE=DATE:20220629
DTEND;VALUE=DATE:20220704
DTSTAMP:20260423T183413
CREATED:20190724T134645Z
LAST-MODIFIED:20211114T160849Z
UID:287-1656460800-1656892799@multi-faithcalendar.org
SUMMARY:Maidyoshahem Gahambar (Zoroastrian)
DESCRIPTION:Maidyoshahem (literally: Midsummer) Gahambar is a seasonal festival celebrated on the summer solstice. It is considered a religious duty to participate in a communal jashan prayer ceremony; as well as\, fraternize and share a simple meal with fellow co-religionists from all walks of life\, rich and poor. \nMore Information
URL:https://multi-faithcalendar.org/events/maidyoshahem-gahambar-zoroastrian/
CATEGORIES:2022,July,June,Zoroastrian
END:VEVENT
BEGIN:VEVENT
DTSTART;VALUE=DATE:20200731
DTEND;VALUE=DATE:20200801
DTSTAMP:20260423T183413
CREATED:20190724T135755Z
LAST-MODIFIED:20190801T151359Z
UID:301-1596153600-1596239999@multi-faithcalendar.org
SUMMARY:Eid al-Adha (Muslim)
DESCRIPTION:This holiday marks the completion of the Hajj or pilgrimage to Mecca and is observed by Muslims to commemorate the faith of Abraham. Students will miss school to attend congregational prayers at the mosque and celebrate the holiday with their families/friends. \nMore Information:\nEid al-Adha 101\nIslamic Networks Group \nHoliday Greeting: “Eid Mubarak! (Happy Eid)”
URL:https://multi-faithcalendar.org/events/eid-al-adha-muslim/
CATEGORIES:2020,July,Muslim
END:VEVENT
BEGIN:VEVENT
DTSTART;VALUE=DATE:20200729
DTEND;VALUE=DATE:20200730
DTSTAMP:20260423T183413
CREATED:20190724T141215Z
LAST-MODIFIED:20190917T171348Z
UID:325-1595980800-1596067199@multi-faithcalendar.org
SUMMARY:Waqf al Arafa (Muslim)
DESCRIPTION:This is the 9th day of the pilgrimage to Mecca\, where pilgrims gather on the mountain plain of Arafa to pray for forgiveness and be thankful for their blessings. Muslims who are not at the pilgrimage will fast from sunrise to sunset this day. \nMore Information \nStudents may be fasting this day.
URL:https://multi-faithcalendar.org/events/waqf-al-arafa-muslim/
CATEGORIES:2020,July,Muslim
END:VEVENT
BEGIN:VEVENT
DTSTART;VALUE=DATE:20200724
DTEND;VALUE=DATE:20200725
DTSTAMP:20260423T183413
CREATED:20190724T135444Z
LAST-MODIFIED:20190809T181828Z
UID:297-1595548800-1595635199@multi-faithcalendar.org
SUMMARY:Pioneer Day (The Church of Jesus Christ of Latter-day Saints)
DESCRIPTION:Pioneer Day commemorates the day the pioneers entered the Salt Lake Valley. Festivities include a parade (Days of ’47)\, games\, concerts\, speeches\, rodeos\, etc. \nMore Information \nHoliday Greeting: Happy Pioneer Day \nState holiday in Utah
URL:https://multi-faithcalendar.org/events/pioneer-day-the-church-of-jesus-christ-of-latter-day-saints/
CATEGORIES:2020,July,The Church of Jesus Christ of Latter-day Saints
END:VEVENT
BEGIN:VEVENT
DTSTART;VALUE=DATE:20200714
DTEND;VALUE=DATE:20200715
DTSTAMP:20260423T183413
CREATED:20190724T135256Z
LAST-MODIFIED:20190724T135256Z
UID:295-1594684800-1594771199@multi-faithcalendar.org
SUMMARY:St. Kateri Tekakwitha\, Virgin (Catholic)
DESCRIPTION:Informally known as Lily of the Mohawks.   First Native American saint in the United States.  It is said that after her death\, the marks on her face from her smallpox faded away.  St. Kateri Tekakwitha is the patroness of ecology and the environment\, as well as people in exile and Native Americans. \nMore Information
URL:https://multi-faithcalendar.org/events/st-kateri-tekakwitha-virgin-catholic/
CATEGORIES:2020,Catholic,July
END:VEVENT
BEGIN:VEVENT
DTSTART;VALUE=DATE:20200705
DTEND;VALUE=DATE:20200706
DTSTAMP:20260423T183413
CREATED:20190724T135046Z
LAST-MODIFIED:20190917T170953Z
UID:291-1593907200-1593993599@multi-faithcalendar.org
SUMMARY:Asalha Puja (Buddhist)
DESCRIPTION:Asalha Puja means to pay homage to the Buddha on the full moon day of the 8th lunar month (approximately July). It commemorates the Buddha’s first teaching: the turning of the wheel of the Dhamma (Dhammacakkappavattana Sutta) to the five ascetics at the Deer Park (Sarnath) near Benares city\, India. Where Kondanna\, the senior ascetic attained the first level of enlightenment (the Sotapanna level of mind purity). \nMore Information
URL:https://multi-faithcalendar.org/events/asalha-puja-buddhist/
CATEGORIES:2020,Buddhist,July
END:VEVENT
END:VCALENDAR