BEGIN:VCALENDAR
VERSION:2.0
PRODID:-//Cincy MultiFaith Calendar - ECPv6.15.1.1//NONSGML v1.0//EN
CALSCALE:GREGORIAN
METHOD:PUBLISH
X-WR-CALNAME:Cincy MultiFaith Calendar
X-ORIGINAL-URL:https://multi-faithcalendar.org
X-WR-CALDESC:Events for Cincy MultiFaith Calendar
REFRESH-INTERVAL;VALUE=DURATION:PT1H
X-Robots-Tag:noindex
X-PUBLISHED-TTL:PT1H
BEGIN:VTIMEZONE
TZID:America/New_York
BEGIN:DAYLIGHT
TZOFFSETFROM:-0500
TZOFFSETTO:-0400
TZNAME:EDT
DTSTART:20260308T070000
END:DAYLIGHT
BEGIN:STANDARD
TZOFFSETFROM:-0400
TZOFFSETTO:-0500
TZNAME:EST
DTSTART:20261101T060000
END:STANDARD
END:VTIMEZONE
BEGIN:VEVENT
DTSTART;VALUE=DATE:20260521
DTEND;VALUE=DATE:20260524
DTSTAMP:20260423T141002
CREATED:20251128T234332Z
LAST-MODIFIED:20251128T234332Z
UID:3168-1779321600-1779580799@multi-faithcalendar.org
SUMMARY:Shavuot (Jewish)
DESCRIPTION:The festival of Shavuot celebrates the giving of Torah (Hebrew Bible) including the Ten Commandments at Mount Sinai. It also marks the end of the spring harvest\, and the beginning of the summer harvest. Shavuot is celebrated by studying Torah together as a community\, often late into the night. It is traditional to eat meals containing dairy. Barley and wheat are also food symbols of Shavuot. \nMore Information \nHoliday Greeting: Hag Sameach (Happy Holiday) \nCommonly observed by synagogue attendance or family gatherings. Work is traditionally prohibited; individuals may be absent from school or work.
URL:https://multi-faithcalendar.org/events/shavuot-jewish-5/
CATEGORIES:2026,Jewish,June,May
END:VEVENT
BEGIN:VEVENT
DTSTART;VALUE=DATE:20260526
DTEND;VALUE=DATE:20260528
DTSTAMP:20260423T141002
CREATED:20251128T235123Z
LAST-MODIFIED:20251128T235123Z
UID:3174-1779753600-1779926399@multi-faithcalendar.org
SUMMARY:Eid al-Adha (Islam)
DESCRIPTION:This holiday marks the completion of the Hajj or pilgrimage to Mecca and is observed by Muslims to commemorate the faith of Abraham. Students will miss school to attend congregational prayers at the mosque and celebrate the holiday with their families/friends. \nMore Information:\nEid al-Adha 101\nIslamic Networks Group \nHoliday Greeting: “Eid Mubarak! (Happy Eid)”
URL:https://multi-faithcalendar.org/events/eid-al-adha-islam-5/
CATEGORIES:2026,Islam,June,May
END:VEVENT
BEGIN:VEVENT
DTSTART;VALUE=DATE:20260531
DTEND;VALUE=DATE:20260601
DTSTAMP:20260423T141002
CREATED:20251128T235333Z
LAST-MODIFIED:20251128T235333Z
UID:3178-1780185600-1780271999@multi-faithcalendar.org
SUMMARY:Pentecost (Orthodox Christianity)
DESCRIPTION:Pentecost is known by Christians as the birthday of their church community. The word Pentecost is Greek for “50th day.” It is celebrated fifty days after Easter Sunday\, to commemorate when the Holy Spirit came upon the Apostles and their followers\, inspiring them to begin their Earthly ministry to make disciples of all nations. Orthodox Christianity\, which follows the Julian Calendar\, celebrates this feast today. \nYou can learn more about this here.
URL:https://multi-faithcalendar.org/events/pentecost-orthodox-christianity-4/
CATEGORIES:2026,Christian Orthodox,June,May
END:VEVENT
END:VCALENDAR