BEGIN:VCALENDAR
VERSION:2.0
PRODID:-//Cincy MultiFaith Calendar - ECPv6.15.1.1//NONSGML v1.0//EN
CALSCALE:GREGORIAN
METHOD:PUBLISH
X-ORIGINAL-URL:https://multi-faithcalendar.org
X-WR-CALDESC:Events for Cincy MultiFaith Calendar
REFRESH-INTERVAL;VALUE=DURATION:PT1H
X-Robots-Tag:noindex
X-PUBLISHED-TTL:PT1H
BEGIN:VTIMEZONE
TZID:America/New_York
BEGIN:DAYLIGHT
TZOFFSETFROM:-0500
TZOFFSETTO:-0400
TZNAME:EDT
DTSTART:20200308T070000
END:DAYLIGHT
BEGIN:STANDARD
TZOFFSETFROM:-0400
TZOFFSETTO:-0500
TZNAME:EST
DTSTART:20201101T060000
END:STANDARD
BEGIN:DAYLIGHT
TZOFFSETFROM:-0500
TZOFFSETTO:-0400
TZNAME:EDT
DTSTART:20210314T070000
END:DAYLIGHT
BEGIN:STANDARD
TZOFFSETFROM:-0400
TZOFFSETTO:-0500
TZNAME:EST
DTSTART:20211107T060000
END:STANDARD
BEGIN:DAYLIGHT
TZOFFSETFROM:-0500
TZOFFSETTO:-0400
TZNAME:EDT
DTSTART:20220313T070000
END:DAYLIGHT
BEGIN:STANDARD
TZOFFSETFROM:-0400
TZOFFSETTO:-0500
TZNAME:EST
DTSTART:20221106T060000
END:STANDARD
BEGIN:DAYLIGHT
TZOFFSETFROM:-0500
TZOFFSETTO:-0400
TZNAME:EDT
DTSTART:20230312T070000
END:DAYLIGHT
BEGIN:STANDARD
TZOFFSETFROM:-0400
TZOFFSETTO:-0500
TZNAME:EST
DTSTART:20231105T060000
END:STANDARD
BEGIN:DAYLIGHT
TZOFFSETFROM:-0500
TZOFFSETTO:-0400
TZNAME:EDT
DTSTART:20240310T070000
END:DAYLIGHT
BEGIN:STANDARD
TZOFFSETFROM:-0400
TZOFFSETTO:-0500
TZNAME:EST
DTSTART:20241103T060000
END:STANDARD
END:VTIMEZONE
BEGIN:VEVENT
DTSTART;VALUE=DATE:20240430
DTEND;VALUE=DATE:20240505
DTSTAMP:20260424T224921
CREATED:20231226T131833Z
LAST-MODIFIED:20231226T131833Z
UID:2490-1714435200-1714867199@multi-faithcalendar.org
SUMMARY:Maidyozarem Gahambar (Zoroastrian)
DESCRIPTION:Maidyozarem (literally: midgreening) Gahambar is a seasonal festival celebrated in mid-spring. It is considered a religious duty to participate in a communal jashan prayer ceremony; as well as\, fraternize and share a simple meal with fellow co-religionists from all walks of life\, rich and poor. \nMore Information
URL:https://multi-faithcalendar.org/events/maidyozarem-gahambar-zoroastrian-3/
CATEGORIES:2024,April,May,Zoroastrian
END:VEVENT
BEGIN:VEVENT
DTSTART;VALUE=DATE:20230529
DTEND;VALUE=DATE:20230530
DTSTAMP:20260424T224921
CREATED:20221221T160657Z
LAST-MODIFIED:20221221T160657Z
UID:2175-1685318400-1685404799@multi-faithcalendar.org
SUMMARY:Ascension of Baha'u'llah (The Bahá’í Faith)
DESCRIPTION:Baha’is observe the anniversary of the death in exile of Baha’u’llah\, the founder of the Baha’i Faith outside of Akka (Acre) in northern Israel. \nWork is to be suspended and children excused from school. \nFor more information: \nhttps://bahaiteachings.org/prophet-passes-away-ascension-bahaullah
URL:https://multi-faithcalendar.org/events/ascension-of-bahaullah-the-bahai-faith-3/
CATEGORIES:2023,May,The Bahá’í Faith
END:VEVENT
BEGIN:VEVENT
DTSTART;VALUE=DATE:20230524
DTEND;VALUE=DATE:20230525
DTSTAMP:20260424T224921
CREATED:20221221T160604Z
LAST-MODIFIED:20221221T160604Z
UID:2173-1684886400-1684972799@multi-faithcalendar.org
SUMMARY:Declaration of the Bab (The Bahá’í Faith)
DESCRIPTION:Commemorates May 23\, 1844 when the Bab\, the Martyred Prophet Herald of the Bahá’í Faith\, announced in Persia\, that he was the Herald of a new messenger from God in Shiraz Persia \nWork is to be suspended and children excused from school. \nhttps://www.bahaiblog.net/bahai-calendar/about-the-declaration-of-the-bab/
URL:https://multi-faithcalendar.org/events/declaration-of-the-bab-the-bahai-faith-2/
CATEGORIES:2023,May,The Bahá’í Faith
END:VEVENT
BEGIN:VEVENT
DTSTART;VALUE=DATE:20230523
DTEND;VALUE=DATE:20230524
DTSTAMP:20260424T224921
CREATED:20221221T155546Z
LAST-MODIFIED:20221221T155546Z
UID:2163-1684800000-1684886399@multi-faithcalendar.org
SUMMARY:Zarathosht-no-Diso (Parsi Zoroastrian)
DESCRIPTION:Death anniversary of Zarathushtra (Zoroaster) the founder of Zoroastrianism. It is a day of special prayers\, with lectures and discussions held on the life and works of the prophet. There is no mourning in the Zoroastrian religion\, only remembrance and prayers for Farohars (souls) of the departed. \nMore Information
URL:https://multi-faithcalendar.org/events/zarathosht-no-diso-parsi-zoroastrian-2/
CATEGORIES:2023,May,Parsi Zoroastrian
END:VEVENT
BEGIN:VEVENT
DTSTART;VALUE=DATE:20230505
DTEND;VALUE=DATE:20230506
DTSTAMP:20260424T224921
CREATED:20221221T161055Z
LAST-MODIFIED:20221221T161055Z
UID:2181-1683244800-1683331199@multi-faithcalendar.org
SUMMARY:Vesak - Buddha's Birthday (Buddhism)
DESCRIPTION:Traditionally\, Buddha’s Birthday is known as Vesak or Visakah Puja (Buddha’s Birthday Celebrations). Vesak is the major Buddhist festival of the year as it celebrates the birth\, enlightenment and death of the Buddha on the one day\, the first full moon day in May\, except in a leap year when the festival is held in June. This celebration is called Vesak being the name of the month in the Indian calendar. \nBuddhist Festivals are always joyful occasions. Typically on a festival day\, lay people will go the the local temple or monastery and offer food to the monks and take the Five Precepts and listen to a Dharma talk. In the afternoon\, they distribute food to the poor to make merit and in the evening join perhaps in a ceremony of circumambulation a stupa three time as a sign of respect to the Buddha\, Dhamma\, Sangha. The day will conclude with evening chanting of the Buddha’s teachings and meditation. \nMore Information
URL:https://multi-faithcalendar.org/events/vesak-buddhas-birthday-buddhism-2/
CATEGORIES:2023,Buddhist,May
END:VEVENT
BEGIN:VEVENT
DTSTART;VALUE=DATE:20230502
DTEND;VALUE=DATE:20230503
DTSTAMP:20260424T224921
CREATED:20221221T160337Z
LAST-MODIFIED:20221221T160337Z
UID:2169-1682985600-1683071999@multi-faithcalendar.org
SUMMARY:12th Day of the Festival of Ridvan (The Bahá’í Faith)
DESCRIPTION:12th Day of Ridvan. There are three holy Days as part of the Festival\, the first day\, the ninth and the twelfth. The annual Baha’i Festival commemorates the 12 days when Baha’u’llah\, the founder of the Faith\, publicly proclaimed his mission as God’s messenger. \nHoliday Greeting: Happy Ridvan \nWork is to be suspended and children excused from school. \nhttps://en.wikipedia.org/wiki/Ridv%C3%A1n
URL:https://multi-faithcalendar.org/events/12th-day-of-the-festival-of-ridvan-the-bahai-faith-2/
CATEGORIES:2023,May,The Bahá’í Faith
END:VEVENT
BEGIN:VEVENT
DTSTART;VALUE=DATE:20230430
DTEND;VALUE=DATE:20230505
DTSTAMP:20260424T224921
CREATED:20221221T151706Z
LAST-MODIFIED:20221221T151706Z
UID:2127-1682812800-1683244799@multi-faithcalendar.org
SUMMARY:Maidyozarem Gahambar (Zoroastrian)
DESCRIPTION:Maidyozarem (literally: midgreening) Gahambar is a seasonal festival celebrated in mid-spring. It is considered a religious duty to participate in a communal jashan prayer ceremony; as well as\, fraternize and share a simple meal with fellow co-religionists from all walks of life\, rich and poor. \nMore Information
URL:https://multi-faithcalendar.org/events/maidyozarem-gahambar-zoroastrian-2/
CATEGORIES:2023,April,May,Zoroastrian
END:VEVENT
BEGIN:VEVENT
DTSTART;TZID=America/New_York:20230424T180000
DTEND;TZID=America/New_York:20230425T180000
DTSTAMP:20260424T224921
CREATED:20221221T160754Z
LAST-MODIFIED:20221221T160754Z
UID:2177-1682359200-1682445600@multi-faithcalendar.org
SUMMARY:Yom HaZikaron (Jewish)
DESCRIPTION:Yom HaZikaron is Israel’s Memorial Day\, observed both in Israel and in many Jewish communities around the world. A day to remember and honor soldiers who lost their lives fighting in the War of Independence and subsequent battles. It is also a day to remember civilian victims of terrorism. \nMore Information \nCommonly observed by synagogue attendance\, family or community gatherings. In Israel\, at 12 noon sirens are sounded and the whole country\, even cars on highways\, will stop for a commemorative moment.
URL:https://multi-faithcalendar.org/events/yom-hazikaron-jewish-2/
CATEGORIES:2023,Jewish,May
END:VEVENT
BEGIN:VEVENT
DTSTART;TZID=America/New_York:20230421T180000
DTEND;TZID=America/New_York:20230424T180000
DTSTAMP:20260424T224921
CREATED:20221221T160210Z
LAST-MODIFIED:20221221T160210Z
UID:2167-1682100000-1682359200@multi-faithcalendar.org
SUMMARY:Eid al-Fitr (Islam)
DESCRIPTION:This holiday marks the end of Ramadan\, the fasting month. It is a time of celebration and thankfulness of the self control practiced during the month. \nMore Information \nHoliday Greeting: “Eid Mubarak! (Happy Eid)” \nStudents will miss school to attend congregational prayers at the mosque and celebrate the holiday with their families/friends.
URL:https://multi-faithcalendar.org/events/eid-al-fitr-islam-2/
CATEGORIES:2023,Islam,May
END:VEVENT
BEGIN:VEVENT
DTSTART;VALUE=DATE:20220529
DTEND;VALUE=DATE:20220530
DTSTAMP:20260424T224921
CREATED:20211205T150255Z
LAST-MODIFIED:20211205T150255Z
UID:1939-1653782400-1653868799@multi-faithcalendar.org
SUMMARY:Ascension of Baha'u'llah (The Bahá’í Faith)
DESCRIPTION:Baha’is observe the anniversary of the death in exile of Baha’u’llah\, the founder of the Baha’i Faith outside of Akka (Acre) in northern Israel. \nWork is to be suspended and children excused from school. \nFor more information: \nhttps://bahaiteachings.org/prophet-passes-away-ascension-bahaullah
URL:https://multi-faithcalendar.org/events/ascension-of-bahaullah-the-bahai-faith-2/
CATEGORIES:2022,May,The Bahá’í Faith
END:VEVENT
BEGIN:VEVENT
DTSTART;VALUE=DATE:20220524
DTEND;VALUE=DATE:20220525
DTSTAMP:20260424T224921
CREATED:20190724T133048Z
LAST-MODIFIED:20211230T152540Z
UID:270-1653350400-1653436799@multi-faithcalendar.org
SUMMARY:Declaration of the Bab (The Bahá’í Faith)
DESCRIPTION:Commemorates May 23\, 1844 when the Bab\, the Martyred Prophet Herald of the Bahá’í Faith\, announced in Persia\, that he was the Herald of a new messenger from God in Shiraz Persia \nWork is to be suspended and children excused from school. \nhttps://www.bahaiblog.net/bahai-calendar/about-the-declaration-of-the-bab/
URL:https://multi-faithcalendar.org/events/declaration-of-the-bab-the-bahai-faith/
CATEGORIES:2022,May,The Bahá’í Faith
END:VEVENT
BEGIN:VEVENT
DTSTART;VALUE=DATE:20220523
DTEND;VALUE=DATE:20220524
DTSTAMP:20260424T224921
CREATED:20190724T132721Z
LAST-MODIFIED:20211113T204456Z
UID:266-1653264000-1653350399@multi-faithcalendar.org
SUMMARY:Zarathosht-no-Diso (Parsi Zoroastrian)
DESCRIPTION:Death anniversary of Zarathushtra (Zoroaster) the founder of Zoroastrianism. It is a day of special prayers\, with lectures and discussions held on the life and works of the prophet. There is no mourning in the Zoroastrian religion\, only remembrance and prayers for Farohars (souls) of the departed. \nMore Information
URL:https://multi-faithcalendar.org/events/zarathosht-no-diso-parsi-zoroastrian/
CATEGORIES:2022,May,Parsi Zoroastrian
END:VEVENT
BEGIN:VEVENT
DTSTART;VALUE=DATE:20220516
DTEND;VALUE=DATE:20220517
DTSTAMP:20260424T224921
CREATED:20210111T182252Z
LAST-MODIFIED:20211113T203041Z
UID:1366-1652659200-1652745599@multi-faithcalendar.org
SUMMARY:Vesak - Buddha's Birthday (Buddhism)
DESCRIPTION:Traditionally\, Buddha’s Birthday is known as Vesak or Visakah Puja (Buddha’s Birthday Celebrations). Vesak is the major Buddhist festival of the year as it celebrates the birth\, enlightenment and death of the Buddha on the one day\, the first full moon day in May\, except in a leap year when the festival is held in June. This celebration is called Vesak being the name of the month in the Indian calendar. \nBuddhist Festivals are always joyful occasions. Typically on a festival day\, lay people will go the the local temple or monastery and offer food to the monks and take the Five Precepts and listen to a Dharma talk. In the afternoon\, they distribute food to the poor to make merit and in the evening join perhaps in a ceremony of circumambulation a stupa three time as a sign of respect to the Buddha\, Dhamma\, Sangha. The day will conclude with evening chanting of the Buddha’s teachings and meditation. \nMore Information
URL:https://multi-faithcalendar.org/events/vesak-buddhas-birthday-buddhism/
CATEGORIES:2022,Buddhist,May
END:VEVENT
BEGIN:VEVENT
DTSTART;TZID=America/New_York:20220505T180000
DTEND;TZID=America/New_York:20220506T180000
DTSTAMP:20260424T224921
CREATED:20190724T131830Z
LAST-MODIFIED:20220531T132044Z
UID:252-1651773600-1651860000@multi-faithcalendar.org
SUMMARY:Yom HaAtzma'ut (Jewish)
DESCRIPTION:Yom HaAtzma’ut\, also known as Israel’s Independence Day\, is celebrated on the fifth day of the month of Iyar\, which is the Hebrew date of the formal establishment of the State of Israel\, when members of the “provisional government” read and signed a Declaration of Independence in Tel Aviv. The original date corresponded to May 14\, 1948. \nMore Information \nCommonly observed by synagogue attendance\, community or family gatherings.
URL:https://multi-faithcalendar.org/events/yom-haatzmaut-jewish/
CATEGORIES:2022,Jewish,May
END:VEVENT
BEGIN:VEVENT
DTSTART;TZID=America/New_York:20220503T180000
DTEND;TZID=America/New_York:20220504T180000
DTSTAMP:20260424T224921
CREATED:20190724T131631Z
LAST-MODIFIED:20211113T202318Z
UID:250-1651600800-1651687200@multi-faithcalendar.org
SUMMARY:Yom HaZikaron (Jewish)
DESCRIPTION:Yom HaZikaron is Israel’s Memorial Day\, observed both in Israel and in many Jewish communities around the world. A day to remember and honor soldiers who lost their lives fighting in the War of Independence and subsequent battles. It is also a day to remember civilian victims of terrorism. \nMore Information \nCommonly observed by synagogue attendance\, family or community gatherings. In Israel\, at 12 noon sirens are sounded and the whole country\, even cars on highways\, will stop for a commemorative moment.
URL:https://multi-faithcalendar.org/events/yom-hazikaron-jewish/
CATEGORIES:2022,Jewish,May
END:VEVENT
BEGIN:VEVENT
DTSTART;VALUE=DATE:20220502
DTEND;VALUE=DATE:20220506
DTSTAMP:20260424T224921
CREATED:20210111T181053Z
LAST-MODIFIED:20211113T202939Z
UID:1354-1651449600-1651795199@multi-faithcalendar.org
SUMMARY:Eid al-Fitr (Islam)
DESCRIPTION:This holiday marks the end of Ramadan\, the fasting month. It is a time of celebration and thankfulness of the self control practiced during the month. \nMore Information \nHoliday Greeting: “Eid Mubarak! (Happy Eid)” \nStudents will miss school to attend congregational prayers at the mosque and celebrate the holiday with their families/friends.
URL:https://multi-faithcalendar.org/events/eid-al-fitr-islam/
CATEGORIES:2022,Islam,May
END:VEVENT
BEGIN:VEVENT
DTSTART;VALUE=DATE:20220502
DTEND;VALUE=DATE:20220503
DTSTAMP:20260424T224921
CREATED:20190724T132034Z
LAST-MODIFIED:20211113T202728Z
UID:256-1651449600-1651535999@multi-faithcalendar.org
SUMMARY:12th Day of the Festival of Ridvan (The Bahá’í Faith)
DESCRIPTION:12th Day of Ridvan. There are three holy Days as part of the Festival\, the first day\, the ninth and the twelfth. The annual Baha’i Festival commemorates the 12 days when Baha’u’llah\, the founder of the Faith\, publicly proclaimed his mission as God’s messenger. \nHoliday Greeting: Happy Ridvan \nWork is to be suspended and children excused from school. \nhttps://en.wikipedia.org/wiki/Ridv%C3%A1n
URL:https://multi-faithcalendar.org/events/12th-day-of-the-festival-of-ridvan-the-bahai-faith/
CATEGORIES:2022,May,The Bahá’í Faith
END:VEVENT
BEGIN:VEVENT
DTSTART;VALUE=DATE:20220430
DTEND;VALUE=DATE:20220505
DTSTAMP:20260424T224921
CREATED:20190724T132213Z
LAST-MODIFIED:20211113T202118Z
UID:258-1651276800-1651708799@multi-faithcalendar.org
SUMMARY:Maidyozarem Gahambar (Zoroastrian)
DESCRIPTION:Maidyozarem (literally: midgreening) Gahambar is a seasonal festival celebrated in mid-spring. It is considered a religious duty to participate in a communal jashan prayer ceremony; as well as\, fraternize and share a simple meal with fellow co-religionists from all walks of life\, rich and poor. \nMore Information
URL:https://multi-faithcalendar.org/events/maidyozarem-gahambar-zoroastrian/
CATEGORIES:2022,April,May,Zoroastrian
END:VEVENT
BEGIN:VEVENT
DTSTART;VALUE=DATE:20211128
DTEND;VALUE=DATE:20211129
DTSTAMP:20260424T224921
CREATED:20190724T133414Z
LAST-MODIFIED:20210105T165017Z
UID:274-1638057600-1638143999@multi-faithcalendar.org
SUMMARY:Ascension of Baha'u'llah (The Bahá’í Faith)
DESCRIPTION:Baha’is observe the anniversary of the death in exile of Baha’u’llah\, the founder of the Baha’i Faith outside of Akka (Acre) in northern Israel. \nWork is to be suspended and children excused from school. \nFor more information: \nhttps://bahaiteachings.org/prophet-passes-away-ascension-bahaullah
URL:https://multi-faithcalendar.org/events/ascension-of-bahaullah-the-bahai-faith/
CATEGORIES:2020,2021,May,The Bahá’í Faith
END:VEVENT
BEGIN:VEVENT
DTSTART;VALUE=DATE:20200531
DTEND;VALUE=DATE:20200601
DTSTAMP:20260424T224921
CREATED:20190724T133525Z
LAST-MODIFIED:20190809T183323Z
UID:276-1590883200-1590969599@multi-faithcalendar.org
SUMMARY:Pentecost Sunday (Catholic)
DESCRIPTION:Pentecost is the Church’s birthday.  The word Pentecost is Greek and it means “50th day.” Fifty days after Easter Sunday\, we celebrate the coming of the Holy Spirit upon the Apostles and their followers\, and the beginning of their Earthly ministry to make disciples of all nations.  \nMore Information
URL:https://multi-faithcalendar.org/events/pentecost-sunday-catholic/
CATEGORIES:2020,Catholic,May
END:VEVENT
BEGIN:VEVENT
DTSTART;VALUE=DATE:20200523
DTEND;VALUE=DATE:20200525
DTSTAMP:20260424T224921
CREATED:20190724T132952Z
LAST-MODIFIED:20190724T132952Z
UID:268-1590192000-1590364799@multi-faithcalendar.org
SUMMARY:Eid al-Fitr (Muslim)
DESCRIPTION:This holiday marks the end of Ramadan\, the fasting month. It is a time of celebration and thankfulness of the self control practiced during the month. \nMore Information \nHoliday Greeting: “Eid Mubarak! (Happy Eid)” \nStudents will miss school to attend congregational prayers at the mosque and celebrate the holiday with their families/friends.
URL:https://multi-faithcalendar.org/events/eid-al-fitr-muslim/
CATEGORIES:2020,May,Muslim
END:VEVENT
BEGIN:VEVENT
DTSTART;VALUE=DATE:20200521
DTEND;VALUE=DATE:20200522
DTSTAMP:20260424T224921
CREATED:20190724T132558Z
LAST-MODIFIED:20190809T183119Z
UID:264-1590019200-1590105599@multi-faithcalendar.org
SUMMARY:Ascension of the Lord (Catholic)
DESCRIPTION:40 days after Easter\, one of the great solemnities in the Christian liturgical calendar\, and commemorates the bodily ascension of Jesus into heaven.
URL:https://multi-faithcalendar.org/events/ascension-of-the-lord-catholic/
CATEGORIES:2020,Catholic,May
END:VEVENT
BEGIN:VEVENT
DTSTART;VALUE=DATE:20200519
DTEND;VALUE=DATE:20200520
DTSTAMP:20260424T224921
CREATED:20190724T132515Z
LAST-MODIFIED:20190913T160604Z
UID:262-1589846400-1589932799@multi-faithcalendar.org
SUMMARY:Laila tul Qadr (Islam)
DESCRIPTION:Translated as the “Night of Power” and is observed on any of the last ten nights of the month of Ramadan. Muslims believe that the holy book\, Quran\, was revealed to Prophet Muhammad in this holy month. It is marked with special late night prayers. \nMore Information \nSome students may miss school the next day or arrive a few hours late.
URL:https://multi-faithcalendar.org/events/laila-tul-qadr/
CATEGORIES:2020,May,Muslim
END:VEVENT
BEGIN:VEVENT
DTSTART;VALUE=DATE:20200517
DTEND;VALUE=DATE:20200518
DTSTAMP:20260424T224921
CREATED:20190724T132340Z
LAST-MODIFIED:20190913T160750Z
UID:260-1589673600-1589759999@multi-faithcalendar.org
SUMMARY:1746 Chhota Ghallughara (Sikh)
DESCRIPTION:The Chhota Ghallughara was the first massacre of Sikhs targeted to wipe out the entire population. Around 7\,000 Sikhs were killed\, 3\,000 were captured and later beheaded\, and the persecution lasted several decades. Gurdwaras were destroyed and scriptures were burnt. Anyone caught saying the word “Guru” was sentenced to death. \nMore Information \nStudents and/Co-Workers may visit their local Gurdwara at some point during the day
URL:https://multi-faithcalendar.org/events/1746-chhota-ghallughara/
CATEGORIES:2020,May,Sikh
END:VEVENT
BEGIN:VEVENT
DTSTART;VALUE=DATE:20200424
DTEND;VALUE=DATE:20200524
DTSTAMP:20260424T224921
CREATED:20190724T131441Z
LAST-MODIFIED:20190724T131441Z
UID:248-1587686400-1590278399@multi-faithcalendar.org
SUMMARY:Ramadan (Muslim)
DESCRIPTION:This marks the the holy month where Muslims fast from sunrise to sunset for 30 days abstaining from food and drinks. \nMore Information \nHoliday Greeting: Ramadan Mubarak \nThere are evening prayers that some students may attend at the mosque during this month. Mostly middle and high school students will be fasting.
URL:https://multi-faithcalendar.org/events/ramadan-muslim/
CATEGORIES:2020,April,May,Muslim
END:VEVENT
END:VCALENDAR